Workbook

Sheet Einstellungen
A1: Urlaubsplaner 2027
A2: Kostenlose Vorlage von presio.eu
A4: Bundesland | B4: Bayern
A5: Höchstens gleichzeitig abwesend | B5: 2
A6: Jahr | B6: 2027
A7: Arbeitstage 2027 im gewählten Land | B7: =SUM('Jan'!C4:AG4)+SUM('Feb'!C4:AG4)+SUM('Mär'!C4:AG4)+SUM('Apr'!C4:AG4)+SUM('Mai'!C4:AG4)+SUM('Jun'!C4:AG4)+SUM('Jul'!C4:AG4)+SUM('Aug'!C4:AG4)+SUM('Sep'!C4:AG4)+SUM('Okt'!C4:AG4)+SUM('Nov'!C4:AG4)+SUM('Dez'!C4:AG4)
A8: interne Hilfszelle (nicht ändern) | B8: =MATCH(B4,Feiertage!$C$2:$R$2,0)
A10: So geht es:
A11: 1. Gelbe Felder ausfüllen: Bundesland und wie viele Personen höchstens gleichzeitig fehlen dürfen.
A12: 2. Im Blatt „Team" Namen, Urlaubsanspruch und Resturlaub aus dem Vorjahr eintragen.
A13: 3. In den Monatsblättern je Tag ein Kürzel setzen: U = Urlaub, H = halber Urlaubstag, K = krank, S = Sonstiges (z. B. Fortbildung).
A14: 4. Wochenenden und Feiertage des gewählten Bundeslands sind grau und zählen nicht als Urlaubstag.
A15: 5. Die Zeile „Abwesend" zählt je Tag mit und wird rot, wenn mehr Personen fehlen als erlaubt.
A16: 6. Das Blatt „Übersicht" zeigt genommenen Urlaub je Monat und den Rest je Person.
A18: Die Zeile „Max Muster (Beispiel)" zeigt das Format und kann überschrieben werden.
A19: Die Feiertage gelten für 2027. In Bayern gilt Mariä Himmelfahrt nur in Gemeinden mit überwiegend katholischer Bevölkerung (2027 ein Sonntag).
A20: Keine Rechtsberatung. Urlaub für das ganze Team ohne Excel planen: presio.eu

Sheet Team
A1: Team
A3: Name | B3: Urlaubsanspruch 2027 | C3: Resturlaub aus 2026 | D3: Gesamt
A4: Max Muster (Beispiel) | B4: 28 | C4: 2 | D4: =IF(A4="","",B4+C4)
D5: =IF(A5="","",B5+C5)
D6: =IF(A6="","",B6+C6)
D7: =IF(A7="","",B7+C7)
D8: =IF(A8="","",B8+C8)
D9: =IF(A9="","",B9+C9)
D10: =IF(A10="","",B10+C10)
D11: =IF(A11="","",B11+C11)
D12: =IF(A12="","",B12+C12)
D13: =IF(A13="","",B13+C13)
D14: =IF(A14="","",B14+C14)
D15: =IF(A15="","",B15+C15)
D16: =IF(A16="","",B16+C16)
... D23: =IF(A23="","",B23+C23)

Sheet Übersicht
A1: Übersicht 2027
A3: Name | B3: Anspruch | C3: Jan | D3: Feb | E3: Mär | F3: Apr | G3: Mai | H3: Jun | I3: Jul | J3: Aug | K3: Sep | L3: Okt | M3: Nov | N3: Dez | O3: Genommen | P3: Rest | Q3: Krank
A4: =IF(Team!A4="","",Team!A4) | B4: =IF(Team!A4="","",Team!D4) | C4: ='Jan'!AH5 | D4: ='Feb'!AH5 | E4: ='Mär'!AH5 | F4: ='Apr'!AH5 | G4: ='Mai'!AH5 | H4: ='Jun'!AH5 | I4: ='Jul'!AH5 | J4: ='Aug'!AH5 | K4: ='Sep'!AH5 | L4: ='Okt'!AH5 | M4: ='Nov'!AH5 | N4: ='Dez'!AH5 | O4: =SUM(C4:N4) | P4: =IF(A4="","",B4-O4) | Q4: ='Jan'!AI5+'Feb'!AI5+'Mär'!AI5+'Apr'!AI5+'Mai'!AI5+'Jun'!AI5+'Jul'!AI5+'Aug'!AI5+'Sep'!AI5+'Okt'!AI5+'Nov'!AI5+'Dez'!AI5
A5: =IF(Team!A5="","",Team!A5) | B5: =IF(Team!A5="","",Team!D5) | C5: ='Jan'!AH6 | D5: ='Feb'!AH6 | E5: ='Mär'!AH6 | F5: ='Apr'!AH6 | G5: ='Mai'!AH6 | H5: ='Jun'!AH6 | I5: ='Jul'!AH6 | J5: ='Aug'!AH6 | K5: ='Sep'!AH6 | L5: ='Okt'!AH6 | M5: ='Nov'!AH6 | N5: ='Dez'!AH6 | O5: =SUM(C5:N5) | P5: =IF(A5="","",B5-O5) | Q5: ='Jan'!AI6+'Feb'!AI6+'Mär'!AI6+'Apr'!AI6+'Mai'!AI6+'Jun'!AI6+'Jul'!AI6+'Aug'!AI6+'Sep'!AI6+'Okt'!AI6+'Nov'!AI6+'Dez'!AI6
A6: =IF(Team!A6="","",Team!A6) | B6: =IF(Team!A6="","",Team!D6) | C6: ='Jan'!AH7 | D6: ='Feb'!AH7 | E6: ='Mär'!AH7 | F6: ='Apr'!AH7 | G6: ='Mai'!AH7 | H6: ='Jun'!AH7 | I6: ='Jul'!AH7 | J6: ='Aug'!AH7 | K6: ='Sep'!AH7 | L6: ='Okt'!AH7 | M6: ='Nov'!AH7 | N6: ='Dez'!AH7 | O6: =SUM(C6:N6) | P6: =IF(A6="","",B6-O6) | Q6: ='Jan'!AI7+'Feb'!AI7+'Mär'!AI7+'Apr'!AI7+'Mai'!AI7+'Jun'!AI7+'Jul'!AI7+'Aug'!AI7+'Sep'!AI7+'Okt'!AI7+'Nov'!AI7+'Dez'!AI7
A7: =IF(Team!A7="","",Team!A7) | B7: =IF(Team!A7="","",Team!D7) | C7: ='Jan'!AH8 | D7: ='Feb'!AH8 | E7: ='Mär'!AH8 | F7: ='Apr'!AH8 | G7: ='Mai'!AH8 | H7: ='Jun'!AH8 | I7: ='Jul'!AH8 | J7: ='Aug'!AH8 | K7: ='Sep'!AH8 | L7: ='Okt'!AH8 | M7: ='Nov'!AH8 | N7: ='Dez'!AH8 | O7: =SUM(C7:N7) | P7: =IF(A7="","",B7-O7) | Q7: ='Jan'!AI8+'Feb'!AI8+'Mär'!AI8+'Apr'!AI8+'Mai'!AI8+'Jun'!AI8+'Jul'!AI8+'Aug'!AI8+'Sep'!AI8+'Okt'!AI8+'Nov'!AI8+'Dez'!AI8
A8: =IF(Team!A8="","",Team!A8) | B8: =IF(Team!A8="","",Team!D8) | C8: ='Jan'!AH9 | D8: ='Feb'!AH9 | E8: ='Mär'!AH9 | F8: ='Apr'!AH9 | G8: ='Mai'!AH9 | H8: ='Jun'!AH9 | I8: ='Jul'!AH9 | J8: ='Aug'!AH9 | K8: ='Sep'!AH9 | L8: ='Okt'!AH9 | M8: ='Nov'!AH9 | N8: ='Dez'!AH9 | O8: =SUM(C8:N8) | P8: =IF(A8="","",B8-O8) | Q8: ='Jan'!AI9+'Feb'!AI9+'Mär'!AI9+'Apr'!AI9+'Mai'!AI9+'Jun'!AI9+'Jul'!AI9+'Aug'!AI9+'Sep'!AI9+'Okt'!AI9+'Nov'!AI9+'Dez'!AI9
A9: =IF(Team!A9="","",Team!A9) | B9: =IF(Team!A9="","",Team!D9) | C9: ='Jan'!AH10 | D9: ='Feb'!AH10 | E9: ='Mär'!AH10 | F9: ='Apr'!AH10 | G9: ='Mai'!AH10 | H9: ='Jun'!AH10 | I9: ='Jul'!AH10 | J9: ='Aug'!AH10 | K9: ='Sep'!AH10 | L9: ='Okt'!AH10 | M9: ='Nov'!AH10 | N9: ='Dez'!AH10 | O9: =SUM(C9:N9) | P9: =IF(A9="","",B9-O9) | Q9: ='Jan'!AI10+'Feb'!AI10+'Mär'!AI10+'Apr'!AI10+'Mai'!AI10+'Jun'!AI10+'Jul'!AI10+'Aug'!AI10+'Sep'!AI10+'Okt'!AI10+'Nov'!AI10+'Dez'!AI10
A10: =IF(Team!A10="","",Team!A10) | B10: =IF(Team!A10="","",Team!D10) | C10: ='Jan'!AH11 | D10: ='Feb'!AH11 | E10: ='Mär'!AH11 | F10: ='Apr'!AH11 | G10: ='Mai'!AH11 | H10: ='Jun'!AH11 | I10: ='Jul'!AH11 | J10: ='Aug'!AH11 | K10: ='Sep'!AH11 | L10: ='Okt'!AH11 | M10: ='Nov'!AH11 | N10: ='Dez'!AH11 | O10: =SUM(C10:N10) | P10: =IF(A10="","",B10-O10) | Q10: ='Jan'!AI11+'Feb'!AI11+'Mär'!AI11+'Apr'!AI11+'Mai'!AI11+'Jun'!AI11+'Jul'!AI11+'Aug'!AI11+'Sep'!AI11+'Okt'!AI11+'Nov'!AI11+'Dez'!AI11
A11: =IF(Team!A11="","",Team!A11) | B11: =IF(Team!A11="","",Team!D11) | C11: ='Jan'!AH12 | D11: ='Feb'!AH12 | E11: ='Mär'!AH12 | F11: ='Apr'!AH12 | G11: ='Mai'!AH12 | H11: ='Jun'!AH12 | I11: ='Jul'!AH12 | J11: ='Aug'!AH12 | K11: ='Sep'!AH12 | L11: ='Okt'!AH12 | M11: ='Nov'!AH12 | N11: ='Dez'!AH12 | O11: =SUM(C11:N11) | P11: =IF(A11="","",B11-O11) | Q11: ='Jan'!AI12+'Feb'!AI12+'Mär'!AI12+'Apr'!AI12+'Mai'!AI12+'Jun'!AI12+'Jul'!AI12+'Aug'!AI12+'Sep'!AI12+'Okt'!AI12+'Nov'!AI12+'Dez'!AI12
A12: =IF(Team!A12="","",Team!A12) | B12: =IF(Team!A12="","",Team!D12) | C12: ='Jan'!AH13 | D12: ='Feb'!AH13 | E12: ='Mär'!AH13 | F12: ='Apr'!AH13 | G12: ='Mai'!AH13 | H12: ='Jun'!AH13 | I12: ='Jul'!AH13 | J12: ='Aug'!AH13 | K12: ='Sep'!AH13 | L12: ='Okt'!AH13 | M12: ='Nov'!AH13 | N12: ='Dez'!AH13 | O12: =SUM(C12:N12) | P12: =IF(A12="","",B12-O12) | Q12: ='Jan'!AI13+'Feb'!AI13+'Mär'!AI13+'Apr'!AI13+'Mai'!AI13+'Jun'!AI13+'Jul'!AI13+'Aug'!AI13+'Sep'!AI13+'Okt'!AI13+'Nov'!AI13+'Dez'!AI13
A13: =IF(Team!A13="","",Team!A13) | B13: =IF(Team!A13="","",Team!D13) | C13: ='Jan'!AH14 | D13: ='Feb'!AH14 | E13: ='Mär'!AH14 | F13: ='Apr'!AH14 | G13: ='Mai'!AH14 | H13: ='Jun'!AH14 | I13: ='Jul'!AH14 | J13: ='Aug'!AH14 | K13: ='Sep'!AH14 | L13: ='Okt'!AH14 | M13: ='Nov'!AH14 | N13: ='Dez'!AH14 | O13: =SUM(C13:N13) | P13: =IF(A13="","",B13-O13) | Q13: ='Jan'!AI14+'Feb'!AI14+'Mär'!AI14+'Apr'!AI14+'Mai'!AI14+'Jun'!AI14+'Jul'!AI14+'Aug'!AI14+'Sep'!AI14+'Okt'!AI14+'Nov'!AI14+'Dez'!AI14
A14: =IF(Team!A14="","",Team!A14) | B14: =IF(Team!A14="","",Team!D14) | C14: ='Jan'!AH15 | D14: ='Feb'!AH15 | E14: ='Mär'!AH15 | F14: ='Apr'!AH15 | G14: ='Mai'!AH15 | H14: ='Jun'!AH15 | I14: ='Jul'!AH15 | J14: ='Aug'!AH15 | K14: ='Sep'!AH15 | L14: ='Okt'!AH15 | M14: ='Nov'!AH15 | N14: ='Dez'!AH15 | O14: =SUM(C14:N14) | P14: =IF(A14="","",B14-O14) | Q14: ='Jan'!AI15+'Feb'!AI15+'Mär'!AI15+'Apr'!AI15+'Mai'!AI15+'Jun'!AI15+'Jul'!AI15+'Aug'!AI15+'Sep'!AI15+'Okt'!AI15+'Nov'!AI15+'Dez'!AI15
A15: =IF(Team!A15="","",Team!A15) | B15: =IF(Team!A15="","",Team!D15) | C15: ='Jan'!AH16 | D15: ='Feb'!AH16 | E15: ='Mär'!AH16 | F15: ='Apr'!AH16 | G15: ='Mai'!AH16 | H15: ='Jun'!AH16 | I15: ='Jul'!AH16 | J15: ='Aug'!AH16 | K15: ='Sep'!AH16 | L15: ='Okt'!AH16 | M15: ='Nov'!AH16 | N15: ='Dez'!AH16 | O15: =SUM(C15:N15) | P15: =IF(A15="","",B15-O15) | Q15: ='Jan'!AI16+'Feb'!AI16+'Mär'!AI16+'Apr'!AI16+'Mai'!AI16+'Jun'!AI16+'Jul'!AI16+'Aug'!AI16+'Sep'!AI16+'Okt'!AI16+'Nov'!AI16+'Dez'!AI16
... A23: =IF(Team!A23="","",Team!A23) | B23: =IF(Team!A23="","",Team!D23) | C23: ='Jan'!AH24 | D23: ='Feb'!AH24 | E23: ='Mär'!AH24 | F23: ='Apr'!AH24 | G23: ='Mai'!AH24 | H23: ='Jun'!AH24 | I23: ='Jul'!AH24 | J23: ='Aug'!AH24 | K23: ='Sep'!AH24 | L23: ='Okt'!AH24 | M23: ='Nov'!AH24 | N23: ='Dez'!AH24 | O23: =SUM(C23:N23) | P23: =IF(A23="","",B23-O23) | Q23: ='Jan'!AI24+'Feb'!AI24+'Mär'!AI24+'Apr'!AI24+'Mai'!AI24+'Jun'!AI24+'Jul'!AI24+'Aug'!AI24+'Sep'!AI24+'Okt'!AI24+'Nov'!AI24+'Dez'!AI24

Sheet Jan
A1: Januar 2027
A2: Tag | C2: =C3 | D2: =D3 | E2: =E3 | F2: =F3 | G2: =G3 | H2: =H3 | I2: =I3 | J2: =J3 | ... AG2: =AG3
A3: Datum | C3: 46388 | D3: 46389 | E3: 46390 | F3: 46391 | G3: 46392 | H3: 46393 | I3: 46394 | J3: 46395 | K3: 46396 | L3: 46397 | M3: 46398 | N3: 46399 | O3: 46400 | P3: 46401 | Q3: 46402 | R3: 46403 | S3: 46404 | T3: 46405 | U3: 46406 | V3: 46407 | W3: 46408 | X3: 46409 | Y3: 46410 | Z3: 46411 | AA3: 46412 | AB3: 46413 | AC3: 46414 | AD3: 46415 | AE3: 46416 | AF3: 46417 | AG3: 46418 | AH3: Urlaub | AI3: Krank
A4: Arbeitstag (1 = ja) | C4: =IF(WEEKDAY(C3,2)>5,0,IF(COUNTIFS(Feiertage!$A$3:$A$19,C3,Feiertage!$S$3:$S$19,1)>0,0,1)) | D4: =IF(WEEKDAY(D3,2)>5,0,IF(COUNTIFS(Feiertage!$A$3:$A$19,D3,Feiertage!$S$3:$S$19,1)>0,0,1)) | E4: =IF(WEEKDAY(E3,2)>5,0,IF(COUNTIFS(Feiertage!$A$3:$A$19,E3,Feiertage!$S$3:$S$19,1)>0,0,1)) | F4: =IF(WEEKDAY(F3,2)>5,0,IF(COUNTIFS(Feiertage!$A$3:$A$19,F3,Feiertage!$S$3:$S$19,1)>0,0,1)) | G4: =IF(WEEKDAY(G3,2)>5,0,IF(COUNTIFS(Feiertage!$A$3:$A$19,G3,Feiertage!$S$3:$S$19,1)>0,0,1)) | H4: =IF(WEEKDAY(H3,2)>5,0,IF(COUNTIFS(Feiertage!$A$3:$A$19,H3,Feiertage!$S$3:$S$19,1)>0,0,1)) | I4: =IF(WEEKDAY(I3,2)>5,0,IF(COUNTIFS(Feiertage!$A$3:$A$19,I3,Feiertage!$S$3:$S$19,1)>0,0,1)) | J4: =IF(WEEKDAY(J3,2)>5,0,IF(COUNTIFS(Feiertage!$A$3:$A$19,J3,Feiertage!$S$3:$S$19,1)>0,0,1)) | ... AG4: =IF(WEEKDAY(AG3,2)>5,0,IF(COUNTIFS(Feiertage!$A$3:$A$19,AG3,Feiertage!$S$3:$S$19,1)>0,0,1))
A5: =IF(Team!A4="","",Team!A4) | F5: U | G5: U | AH5: =SUMPRODUCT((C5:AG5="U")*($C$4:$AG$4=1))+0.5*SUMPRODUCT((C5:AG5="H")*($C$4:$AG$4=1)) | AI5: =SUMPRODUCT((C5:AG5="K")*($C$4:$AG$4=1))
A6: =IF(Team!A5="","",Team!A5) | AH6: =SUMPRODUCT((C6:AG6="U")*($C$4:$AG$4=1))+0.5*SUMPRODUCT((C6:AG6="H")*($C$4:$AG$4=1)) | AI6: =SUMPRODUCT((C6:AG6="K")*($C$4:$AG$4=1))
A7: =IF(Team!A6="","",Team!A6) | AH7: =SUMPRODUCT((C7:AG7="U")*($C$4:$AG$4=1))+0.5*SUMPRODUCT((C7:AG7="H")*($C$4:$AG$4=1)) | AI7: =SUMPRODUCT((C7:AG7="K")*($C$4:$AG$4=1))
A8: =IF(Team!A7="","",Team!A7) | AH8: =SUMPRODUCT((C8:AG8="U")*($C$4:$AG$4=1))+0.5*SUMPRODUCT((C8:AG8="H")*($C$4:$AG$4=1)) | AI8: =SUMPRODUCT((C8:AG8="K")*($C$4:$AG$4=1))
A9: =IF(Team!A8="","",Team!A8) | AH9: =SUMPRODUCT((C9:AG9="U")*($C$4:$AG$4=1))+0.5*SUMPRODUCT((C9:AG9="H")*($C$4:$AG$4=1)) | AI9: =SUMPRODUCT((C9:AG9="K")*($C$4:$AG$4=1))
A10: =IF(Team!A9="","",Team!A9) | AH10: =SUMPRODUCT((C10:AG10="U")*($C$4:$AG$4=1))+0.5*SUMPRODUCT((C10:AG10="H")*($C$4:$AG$4=1)) | AI10: =SUMPRODUCT((C10:AG10="K")*($C$4:$AG$4=1))
A11: =IF(Team!A10="","",Team!A10) | AH11: =SUMPRODUCT((C11:AG11="U")*($C$4:$AG$4=1))+0.5*SUMPRODUCT((C11:AG11="H")*($C$4:$AG$4=1)) | AI11: =SUMPRODUCT((C11:AG11="K")*($C$4:$AG$4=1))
A12: =IF(Team!A11="","",Team!A11) | AH12: =SUMPRODUCT((C12:AG12="U")*($C$4:$AG$4=1))+0.5*SUMPRODUCT((C12:AG12="H")*($C$4:$AG$4=1)) | AI12: =SUMPRODUCT((C12:AG12="K")*($C$4:$AG$4=1))
A13: =IF(Team!A12="","",Team!A12) | AH13: =SUMPRODUCT((C13:AG13="U")*($C$4:$AG$4=1))+0.5*SUMPRODUCT((C13:AG13="H")*($C$4:$AG$4=1)) | AI13: =SUMPRODUCT((C13:AG13="K")*($C$4:$AG$4=1))
A14: =IF(Team!A13="","",Team!A13) | AH14: =SUMPRODUCT((C14:AG14="U")*($C$4:$AG$4=1))+0.5*SUMPRODUCT((C14:AG14="H")*($C$4:$AG$4=1)) | AI14: =SUMPRODUCT((C14:AG14="K")*($C$4:$AG$4=1))
A15: =IF(Team!A14="","",Team!A14) | AH15: =SUMPRODUCT((C15:AG15="U")*($C$4:$AG$4=1))+0.5*SUMPRODUCT((C15:AG15="H")*($C$4:$AG$4=1)) | AI15: =SUMPRODUCT((C15:AG15="K")*($C$4:$AG$4=1))
A16: =IF(Team!A15="","",Team!A15) | AH16: =SUMPRODUCT((C16:AG16="U")*($C$4:$AG$4=1))+0.5*SUMPRODUCT((C16:AG16="H")*($C$4:$AG$4=1)) | AI16: =SUMPRODUCT((C16:AG16="K")*($C$4:$AG$4=1))
A17: =IF(Team!A16="","",Team!A16) | AH17: =SUMPRODUCT((C17:AG17="U")*($C$4:$AG$4=1))+0.5*SUMPRODUCT((C17:AG17="H")*($C$4:$AG$4=1)) | AI17: =SUMPRODUCT((C17:AG17="K")*($C$4:$AG$4=1))
... A24: =IF(Team!A23="","",Team!A23) | AH24: =SUMPRODUCT((C24:AG24="U")*($C$4:$AG$4=1))+0.5*SUMPRODUCT((C24:AG24="H")*($C$4:$AG$4=1)) | AI24: =SUMPRODUCT((C24:AG24="K")*($C$4:$AG$4=1))
A25: Abwesend | C25: =COUNTIF(C5:C24,"?*") | D25: =COUNTIF(D5:D24,"?*") | E25: =COUNTIF(E5:E24,"?*") | F25: =COUNTIF(F5:F24,"?*") | G25: =COUNTIF(G5:G24,"?*") | H25: =COUNTIF(H5:H24,"?*") | I25: =COUNTIF(I5:I24,"?*") | J25: =COUNTIF(J5:J24,"?*") | ... AG25: =COUNTIF(AG5:AG24,"?*")

Sheet Feb
A1: Februar 2027
A2: Tag | C2: =C3 | D2: =D3 | E2: =E3 | F2: =F3 | G2: =G3 | H2: =H3 | I2: =I3 | J2: =J3 | ... AD2: =AD3
A3: Datum | C3: 46419 | D3: 46420 | E3: 46421 | F3: 46422 | G3: 46423 | H3: 46424 | I3: 46425 | J3: 46426 | K3: 46427 | L3: 46428 | M3: 46429 | N3: 46430 | O3: 46431 | P3: 46432 | Q3: 46433 | R3: 46434 | S3: 46435 | T3: 46436 | U3: 46437 | V3: 46438 | W3: 46439 | X3: 46440 | Y3: 46441 | Z3: 46442 | AA3: 46443 | AB3: 46444 | AC3: 46445 | AD3: 46446 | AH3: Urlaub | AI3: Krank
A4: Arbeitstag (1 = ja) | C4: =IF(WEEKDAY(C3,2)>5,0,IF(COUNTIFS(Feiertage!$A$3:$A$19,C3,Feiertage!$S$3:$S$19,1)>0,0,1)) | D4: =IF(WEEKDAY(D3,2)>5,0,IF(COUNTIFS(Feiertage!$A$3:$A$19,D3,Feiertage!$S$3:$S$19,1)>0,0,1)) | E4: =IF(WEEKDAY(E3,2)>5,0,IF(COUNTIFS(Feiertage!$A$3:$A$19,E3,Feiertage!$S$3:$S$19,1)>0,0,1)) | F4: =IF(WEEKDAY(F3,2)>5,0,IF(COUNTIFS(Feiertage!$A$3:$A$19,F3,Feiertage!$S$3:$S$19,1)>0,0,1)) | G4: =IF(WEEKDAY(G3,2)>5,0,IF(COUNTIFS(Feiertage!$A$3:$A$19,G3,Feiertage!$S$3:$S$19,1)>0,0,1)) | H4: =IF(WEEKDAY(H3,2)>5,0,IF(COUNTIFS(Feiertage!$A$3:$A$19,H3,Feiertage!$S$3:$S$19,1)>0,0,1)) | I4: =IF(WEEKDAY(I3,2)>5,0,IF(COUNTIFS(Feiertage!$A$3:$A$19,I3,Feiertage!$S$3:$S$19,1)>0,0,1)) | J4: =IF(WEEKDAY(J3,2)>5,0,IF(COUNTIFS(Feiertage!$A$3:$A$19,J3,Feiertage!$S$3:$S$19,1)>0,0,1)) | ... AD4: =IF(WEEKDAY(AD3,2)>5,0,IF(COUNTIFS(Feiertage!$A$3:$A$19,AD3,Feiertage!$S$3:$S$19,1)>0,0,1))
A5: =IF(Team!A4="","",Team!A4) | AH5: =SUMPRODUCT((C5:AG5="U")*($C$4:$AG$4=1))+0.5*SUMPRODUCT((C5:AG5="H")*($C$4:$AG$4=1)) | AI5: =SUMPRODUCT((C5:AG5="K")*($C$4:$AG$4=1))
A6: =IF(Team!A5="","",Team!A5) | AH6: =SUMPRODUCT((C6:AG6="U")*($C$4:$AG$4=1))+0.5*SUMPRODUCT((C6:AG6="H")*($C$4:$AG$4=1)) | AI6: =SUMPRODUCT((C6:AG6="K")*($C$4:$AG$4=1))
A7: =IF(Team!A6="","",Team!A6) | AH7: =SUMPRODUCT((C7:AG7="U")*($C$4:$AG$4=1))+0.5*SUMPRODUCT((C7:AG7="H")*($C$4:$AG$4=1)) | AI7: =SUMPRODUCT((C7:AG7="K")*($C$4:$AG$4=1))
A8: =IF(Team!A7="","",Team!A7) | AH8: =SUMPRODUCT((C8:AG8="U")*($C$4:$AG$4=1))+0.5*SUMPRODUCT((C8:AG8="H")*($C$4:$AG$4=1)) | AI8: =SUMPRODUCT((C8:AG8="K")*($C$4:$AG$4=1))
A9: =IF(Team!A8="","",Team!A8) | AH9: =SUMPRODUCT((C9:AG9="U")*($C$4:$AG$4=1))+0.5*SUMPRODUCT((C9:AG9="H")*($C$4:$AG$4=1)) | AI9: =SUMPRODUCT((C9:AG9="K")*($C$4:$AG$4=1))
A10: =IF(Team!A9="","",Team!A9) | AH10: =SUMPRODUCT((C10:AG10="U")*($C$4:$AG$4=1))+0.5*SUMPRODUCT((C10:AG10="H")*($C$4:$AG$4=1)) | AI10: =SUMPRODUCT((C10:AG10="K")*($C$4:$AG$4=1))
A11: =IF(Team!A10="","",Team!A10) | AH11: =SUMPRODUCT((C11:AG11="U")*($C$4:$AG$4=1))+0.5*SUMPRODUCT((C11:AG11="H")*($C$4:$AG$4=1)) | AI11: =SUMPRODUCT((C11:AG11="K")*($C$4:$AG$4=1))
A12: =IF(Team!A11="","",Team!A11) | AH12: =SUMPRODUCT((C12:AG12="U")*($C$4:$AG$4=1))+0.5*SUMPRODUCT((C12:AG12="H")*($C$4:$AG$4=1)) | AI12: =SUMPRODUCT((C12:AG12="K")*($C$4:$AG$4=1))
A13: =IF(Team!A12="","",Team!A12) | AH13: =SUMPRODUCT((C13:AG13="U")*($C$4:$AG$4=1))+0.5*SUMPRODUCT((C13:AG13="H")*($C$4:$AG$4=1)) | AI13: =SUMPRODUCT((C13:AG13="K")*($C$4:$AG$4=1))
A14: =IF(Team!A13="","",Team!A13) | AH14: =SUMPRODUCT((C14:AG14="U")*($C$4:$AG$4=1))+0.5*SUMPRODUCT((C14:AG14="H")*($C$4:$AG$4=1)) | AI14: =SUMPRODUCT((C14:AG14="K")*($C$4:$AG$4=1))
A15: =IF(Team!A14="","",Team!A14) | AH15: =SUMPRODUCT((C15:AG15="U")*($C$4:$AG$4=1))+0.5*SUMPRODUCT((C15:AG15="H")*($C$4:$AG$4=1)) | AI15: =SUMPRODUCT((C15:AG15="K")*($C$4:$AG$4=1))
A16: =IF(Team!A15="","",Team!A15) | AH16: =SUMPRODUCT((C16:AG16="U")*($C$4:$AG$4=1))+0.5*SUMPRODUCT((C16:AG16="H")*($C$4:$AG$4=1)) | AI16: =SUMPRODUCT((C16:AG16="K")*($C$4:$AG$4=1))
... A24: =IF(Team!A23="","",Team!A23) | AH24: =SUMPRODUCT((C24:AG24="U")*($C$4:$AG$4=1))+0.5*SUMPRODUCT((C24:AG24="H")*($C$4:$AG$4=1)) | AI24: =SUMPRODUCT((C24:AG24="K")*($C$4:$AG$4=1))
A25: Abwesend | C25: =COUNTIF(C5:C24,"?*") | D25: =COUNTIF(D5:D24,"?*") | E25: =COUNTIF(E5:E24,"?*") | F25: =COUNTIF(F5:F24,"?*") | G25: =COUNTIF(G5:G24,"?*") | H25: =COUNTIF(H5:H24,"?*") | I25: =COUNTIF(I5:I24,"?*") | J25: =COUNTIF(J5:J24,"?*") | ... AD25: =COUNTIF(AD5:AD24,"?*")

Sheet Mär
A1: März 2027
A2: Tag | C2: =C3 | D2: =D3 | E2: =E3 | F2: =F3 | G2: =G3 | H2: =H3 | I2: =I3 | J2: =J3 | ... AG2: =AG3
A3: Datum | C3: 46447 | D3: 46448 | E3: 46449 | F3: 46450 | G3: 46451 | H3: 46452 | I3: 46453 | J3: 46454 | K3: 46455 | L3: 46456 | M3: 46457 | N3: 46458 | O3: 46459 | P3: 46460 | Q3: 46461 | R3: 46462 | S3: 46463 | T3: 46464 | U3: 46465 | V3: 46466 | W3: 46467 | X3: 46468 | Y3: 46469 | Z3: 46470 | AA3: 46471 | AB3: 46472 | AC3: 46473 | AD3: 46474 | AE3: 46475 | AF3: 46476 | AG3: 46477 | AH3: Urlaub | AI3: Krank
A4: Arbeitstag (1 = ja) | C4: =IF(WEEKDAY(C3,2)>5,0,IF(COUNTIFS(Feiertage!$A$3:$A$19,C3,Feiertage!$S$3:$S$19,1)>0,0,1)) | D4: =IF(WEEKDAY(D3,2)>5,0,IF(COUNTIFS(Feiertage!$A$3:$A$19,D3,Feiertage!$S$3:$S$19,1)>0,0,1)) | E4: =IF(WEEKDAY(E3,2)>5,0,IF(COUNTIFS(Feiertage!$A$3:$A$19,E3,Feiertage!$S$3:$S$19,1)>0,0,1)) | F4: =IF(WEEKDAY(F3,2)>5,0,IF(COUNTIFS(Feiertage!$A$3:$A$19,F3,Feiertage!$S$3:$S$19,1)>0,0,1)) | G4: =IF(WEEKDAY(G3,2)>5,0,IF(COUNTIFS(Feiertage!$A$3:$A$19,G3,Feiertage!$S$3:$S$19,1)>0,0,1)) | H4: =IF(WEEKDAY(H3,2)>5,0,IF(COUNTIFS(Feiertage!$A$3:$A$19,H3,Feiertage!$S$3:$S$19,1)>0,0,1)) | I4: =IF(WEEKDAY(I3,2)>5,0,IF(COUNTIFS(Feiertage!$A$3:$A$19,I3,Feiertage!$S$3:$S$19,1)>0,0,1)) | J4: =IF(WEEKDAY(J3,2)>5,0,IF(COUNTIFS(Feiertage!$A$3:$A$19,J3,Feiertage!$S$3:$S$19,1)>0,0,1)) | ... AG4: =IF(WEEKDAY(AG3,2)>5,0,IF(COUNTIFS(Feiertage!$A$3:$A$19,AG3,Feiertage!$S$3:$S$19,1)>0,0,1))
A5: =IF(Team!A4="","",Team!A4) | AH5: =SUMPRODUCT((C5:AG5="U")*($C$4:$AG$4=1))+0.5*SUMPRODUCT((C5:AG5="H")*($C$4:$AG$4=1)) | AI5: =SUMPRODUCT((C5:AG5="K")*($C$4:$AG$4=1))
A6: =IF(Team!A5="","",Team!A5) | AH6: =SUMPRODUCT((C6:AG6="U")*($C$4:$AG$4=1))+0.5*SUMPRODUCT((C6:AG6="H")*($C$4:$AG$4=1)) | AI6: =SUMPRODUCT((C6:AG6="K")*($C$4:$AG$4=1))
A7: =IF(Team!A6="","",Team!A6) | AH7: =SUMPRODUCT((C7:AG7="U")*($C$4:$AG$4=1))+0.5*SUMPRODUCT((C7:AG7="H")*($C$4:$AG$4=1)) | AI7: =SUMPRODUCT((C7:AG7="K")*($C$4:$AG$4=1))
A8: =IF(Team!A7="","",Team!A7) | AH8: =SUMPRODUCT((C8:AG8="U")*($C$4:$AG$4=1))+0.5*SUMPRODUCT((C8:AG8="H")*($C$4:$AG$4=1)) | AI8: =SUMPRODUCT((C8:AG8="K")*($C$4:$AG$4=1))
A9: =IF(Team!A8="","",Team!A8) | AH9: =SUMPRODUCT((C9:AG9="U")*($C$4:$AG$4=1))+0.5*SUMPRODUCT((C9:AG9="H")*($C$4:$AG$4=1)) | AI9: =SUMPRODUCT((C9:AG9="K")*($C$4:$AG$4=1))
A10: =IF(Team!A9="","",Team!A9) | AH10: =SUMPRODUCT((C10:AG10="U")*($C$4:$AG$4=1))+0.5*SUMPRODUCT((C10:AG10="H")*($C$4:$AG$4=1)) | AI10: =SUMPRODUCT((C10:AG10="K")*($C$4:$AG$4=1))
A11: =IF(Team!A10="","",Team!A10) | AH11: =SUMPRODUCT((C11:AG11="U")*($C$4:$AG$4=1))+0.5*SUMPRODUCT((C11:AG11="H")*($C$4:$AG$4=1)) | AI11: =SUMPRODUCT((C11:AG11="K")*($C$4:$AG$4=1))
A12: =IF(Team!A11="","",Team!A11) | AH12: =SUMPRODUCT((C12:AG12="U")*($C$4:$AG$4=1))+0.5*SUMPRODUCT((C12:AG12="H")*($C$4:$AG$4=1)) | AI12: =SUMPRODUCT((C12:AG12="K")*($C$4:$AG$4=1))
A13: =IF(Team!A12="","",Team!A12) | AH13: =SUMPRODUCT((C13:AG13="U")*($C$4:$AG$4=1))+0.5*SUMPRODUCT((C13:AG13="H")*($C$4:$AG$4=1)) | AI13: =SUMPRODUCT((C13:AG13="K")*($C$4:$AG$4=1))
A14: =IF(Team!A13="","",Team!A13) | AH14: =SUMPRODUCT((C14:AG14="U")*($C$4:$AG$4=1))+0.5*SUMPRODUCT((C14:AG14="H")*($C$4:$AG$4=1)) | AI14: =SUMPRODUCT((C14:AG14="K")*($C$4:$AG$4=1))
A15: =IF(Team!A14="","",Team!A14) | AH15: =SUMPRODUCT((C15:AG15="U")*($C$4:$AG$4=1))+0.5*SUMPRODUCT((C15:AG15="H")*($C$4:$AG$4=1)) | AI15: =SUMPRODUCT((C15:AG15="K")*($C$4:$AG$4=1))
A16: =IF(Team!A15="","",Team!A15) | AH16: =SUMPRODUCT((C16:AG16="U")*($C$4:$AG$4=1))+0.5*SUMPRODUCT((C16:AG16="H")*($C$4:$AG$4=1)) | AI16: =SUMPRODUCT((C16:AG16="K")*($C$4:$AG$4=1))
... A24: =IF(Team!A23="","",Team!A23) | AH24: =SUMPRODUCT((C24:AG24="U")*($C$4:$AG$4=1))+0.5*SUMPRODUCT((C24:AG24="H")*($C$4:$AG$4=1)) | AI24: =SUMPRODUCT((C24:AG24="K")*($C$4:$AG$4=1))
A25: Abwesend | C25: =COUNTIF(C5:C24,"?*") | D25: =COUNTIF(D5:D24,"?*") | E25: =COUNTIF(E5:E24,"?*") | F25: =COUNTIF(F5:F24,"?*") | G25: =COUNTIF(G5:G24,"?*") | H25: =COUNTIF(H5:H24,"?*") | I25: =COUNTIF(I5:I24,"?*") | J25: =COUNTIF(J5:J24,"?*") | ... AG25: =COUNTIF(AG5:AG24,"?*")

Sheet Apr
A1: April 2027
A2: Tag | C2: =C3 | D2: =D3 | E2: =E3 | F2: =F3 | G2: =G3 | H2: =H3 | I2: =I3 | J2: =J3 | ... AF2: =AF3
A3: Datum | C3: 46478 | D3: 46479 | E3: 46480 | F3: 46481 | G3: 46482 | H3: 46483 | I3: 46484 | J3: 46485 | K3: 46486 | L3: 46487 | M3: 46488 | N3: 46489 | O3: 46490 | P3: 46491 | Q3: 46492 | R3: 46493 | S3: 46494 | T3: 46495 | U3: 46496 | V3: 46497 | W3: 46498 | X3: 46499 | Y3: 46500 | Z3: 46501 | AA3: 46502 | AB3: 46503 | AC3: 46504 | AD3: 46505 | AE3: 46506 | AF3: 46507 | AH3: Urlaub | AI3: Krank
A4: Arbeitstag (1 = ja) | C4: =IF(WEEKDAY(C3,2)>5,0,IF(COUNTIFS(Feiertage!$A$3:$A$19,C3,Feiertage!$S$3:$S$19,1)>0,0,1)) | D4: =IF(WEEKDAY(D3,2)>5,0,IF(COUNTIFS(Feiertage!$A$3:$A$19,D3,Feiertage!$S$3:$S$19,1)>0,0,1)) | E4: =IF(WEEKDAY(E3,2)>5,0,IF(COUNTIFS(Feiertage!$A$3:$A$19,E3,Feiertage!$S$3:$S$19,1)>0,0,1)) | F4: =IF(WEEKDAY(F3,2)>5,0,IF(COUNTIFS(Feiertage!$A$3:$A$19,F3,Feiertage!$S$3:$S$19,1)>0,0,1)) | G4: =IF(WEEKDAY(G3,2)>5,0,IF(COUNTIFS(Feiertage!$A$3:$A$19,G3,Feiertage!$S$3:$S$19,1)>0,0,1)) | H4: =IF(WEEKDAY(H3,2)>5,0,IF(COUNTIFS(Feiertage!$A$3:$A$19,H3,Feiertage!$S$3:$S$19,1)>0,0,1)) | I4: =IF(WEEKDAY(I3,2)>5,0,IF(COUNTIFS(Feiertage!$A$3:$A$19,I3,Feiertage!$S$3:$S$19,1)>0,0,1)) | J4: =IF(WEEKDAY(J3,2)>5,0,IF(COUNTIFS(Feiertage!$A$3:$A$19,J3,Feiertage!$S$3:$S$19,1)>0,0,1)) | ... AF4: =IF(WEEKDAY(AF3,2)>5,0,IF(COUNTIFS(Feiertage!$A$3:$A$19,AF3,Feiertage!$S$3:$S$19,1)>0,0,1))
A5: =IF(Team!A4="","",Team!A4) | AH5: =SUMPRODUCT((C5:AG5="U")*($C$4:$AG$4=1))+0.5*SUMPRODUCT((C5:AG5="H")*($C$4:$AG$4=1)) | AI5: =SUMPRODUCT((C5:AG5="K")*($C$4:$AG$4=1))
A6: =IF(Team!A5="","",Team!A5) | AH6: =SUMPRODUCT((C6:AG6="U")*($C$4:$AG$4=1))+0.5*SUMPRODUCT((C6:AG6="H")*($C$4:$AG$4=1)) | AI6: =SUMPRODUCT((C6:AG6="K")*($C$4:$AG$4=1))
A7: =IF(Team!A6="","",Team!A6) | AH7: =SUMPRODUCT((C7:AG7="U")*($C$4:$AG$4=1))+0.5*SUMPRODUCT((C7:AG7="H")*($C$4:$AG$4=1)) | AI7: =SUMPRODUCT((C7:AG7="K")*($C$4:$AG$4=1))
A8: =IF(Team!A7="","",Team!A7) | AH8: =SUMPRODUCT((C8:AG8="U")*($C$4:$AG$4=1))+0.5*SUMPRODUCT((C8:AG8="H")*($C$4:$AG$4=1)) | AI8: =SUMPRODUCT((C8:AG8="K")*($C$4:$AG$4=1))
A9: =IF(Team!A8="","",Team!A8) | AH9: =SUMPRODUCT((C9:AG9="U")*($C$4:$AG$4=1))+0.5*SUMPRODUCT((C9:AG9="H")*($C$4:$AG$4=1)) | AI9: =SUMPRODUCT((C9:AG9="K")*($C$4:$AG$4=1))
A10: =IF(Team!A9="","",Team!A9) | AH10: =SUMPRODUCT((C10:AG10="U")*($C$4:$AG$4=1))+0.5*SUMPRODUCT((C10:AG10="H")*($C$4:$AG$4=1)) | AI10: =SUMPRODUCT((C10:AG10="K")*($C$4:$AG$4=1))
A11: =IF(Team!A10="","",Team!A10) | AH11: =SUMPRODUCT((C11:AG11="U")*($C$4:$AG$4=1))+0.5*SUMPRODUCT((C11:AG11="H")*($C$4:$AG$4=1)) | AI11: =SUMPRODUCT((C11:AG11="K")*($C$4:$AG$4=1))
A12: =IF(Team!A11="","",Team!A11) | AH12: =SUMPRODUCT((C12:AG12="U")*($C$4:$AG$4=1))+0.5*SUMPRODUCT((C12:AG12="H")*($C$4:$AG$4=1)) | AI12: =SUMPRODUCT((C12:AG12="K")*($C$4:$AG$4=1))
A13: =IF(Team!A12="","",Team!A12) | AH13: =SUMPRODUCT((C13:AG13="U")*($C$4:$AG$4=1))+0.5*SUMPRODUCT((C13:AG13="H")*($C$4:$AG$4=1)) | AI13: =SUMPRODUCT((C13:AG13="K")*($C$4:$AG$4=1))
A14: =IF(Team!A13="","",Team!A13) | AH14: =SUMPRODUCT((C14:AG14="U")*($C$4:$AG$4=1))+0.5*SUMPRODUCT((C14:AG14="H")*($C$4:$AG$4=1)) | AI14: =SUMPRODUCT((C14:AG14="K")*($C$4:$AG$4=1))
A15: =IF(Team!A14="","",Team!A14) | AH15: =SUMPRODUCT((C15:AG15="U")*($C$4:$AG$4=1))+0.5*SUMPRODUCT((C15:AG15="H")*($C$4:$AG$4=1)) | AI15: =SUMPRODUCT((C15:AG15="K")*($C$4:$AG$4=1))
A16: =IF(Team!A15="","",Team!A15) | AH16: =SUMPRODUCT((C16:AG16="U")*($C$4:$AG$4=1))+0.5*SUMPRODUCT((C16:AG16="H")*($C$4:$AG$4=1)) | AI16: =SUMPRODUCT((C16:AG16="K")*($C$4:$AG$4=1))
... A24: =IF(Team!A23="","",Team!A23) | AH24: =SUMPRODUCT((C24:AG24="U")*($C$4:$AG$4=1))+0.5*SUMPRODUCT((C24:AG24="H")*($C$4:$AG$4=1)) | AI24: =SUMPRODUCT((C24:AG24="K")*($C$4:$AG$4=1))
A25: Abwesend | C25: =COUNTIF(C5:C24,"?*") | D25: =COUNTIF(D5:D24,"?*") | E25: =COUNTIF(E5:E24,"?*") | F25: =COUNTIF(F5:F24,"?*") | G25: =COUNTIF(G5:G24,"?*") | H25: =COUNTIF(H5:H24,"?*") | I25: =COUNTIF(I5:I24,"?*") | J25: =COUNTIF(J5:J24,"?*") | ... AF25: =COUNTIF(AF5:AF24,"?*")

Sheet Mai
A1: Mai 2027
A2: Tag | C2: =C3 | D2: =D3 | E2: =E3 | F2: =F3 | G2: =G3 | H2: =H3 | I2: =I3 | J2: =J3 | ... AG2: =AG3
A3: Datum | C3: 46508 | D3: 46509 | E3: 46510 | F3: 46511 | G3: 46512 | H3: 46513 | I3: 46514 | J3: 46515 | K3: 46516 | L3: 46517 | M3: 46518 | N3: 46519 | O3: 46520 | P3: 46521 | Q3: 46522 | R3: 46523 | S3: 46524 | T3: 46525 | U3: 46526 | V3: 46527 | W3: 46528 | X3: 46529 | Y3: 46530 | Z3: 46531 | AA3: 46532 | AB3: 46533 | AC3: 46534 | AD3: 46535 | AE3: 46536 | AF3: 46537 | AG3: 46538 | AH3: Urlaub | AI3: Krank
A4: Arbeitstag (1 = ja) | C4: =IF(WEEKDAY(C3,2)>5,0,IF(COUNTIFS(Feiertage!$A$3:$A$19,C3,Feiertage!$S$3:$S$19,1)>0,0,1)) | D4: =IF(WEEKDAY(D3,2)>5,0,IF(COUNTIFS(Feiertage!$A$3:$A$19,D3,Feiertage!$S$3:$S$19,1)>0,0,1)) | E4: =IF(WEEKDAY(E3,2)>5,0,IF(COUNTIFS(Feiertage!$A$3:$A$19,E3,Feiertage!$S$3:$S$19,1)>0,0,1)) | F4: =IF(WEEKDAY(F3,2)>5,0,IF(COUNTIFS(Feiertage!$A$3:$A$19,F3,Feiertage!$S$3:$S$19,1)>0,0,1)) | G4: =IF(WEEKDAY(G3,2)>5,0,IF(COUNTIFS(Feiertage!$A$3:$A$19,G3,Feiertage!$S$3:$S$19,1)>0,0,1)) | H4: =IF(WEEKDAY(H3,2)>5,0,IF(COUNTIFS(Feiertage!$A$3:$A$19,H3,Feiertage!$S$3:$S$19,1)>0,0,1)) | I4: =IF(WEEKDAY(I3,2)>5,0,IF(COUNTIFS(Feiertage!$A$3:$A$19,I3,Feiertage!$S$3:$S$19,1)>0,0,1)) | J4: =IF(WEEKDAY(J3,2)>5,0,IF(COUNTIFS(Feiertage!$A$3:$A$19,J3,Feiertage!$S$3:$S$19,1)>0,0,1)) | ... AG4: =IF(WEEKDAY(AG3,2)>5,0,IF(COUNTIFS(Feiertage!$A$3:$A$19,AG3,Feiertage!$S$3:$S$19,1)>0,0,1))
A5: =IF(Team!A4="","",Team!A4) | AH5: =SUMPRODUCT((C5:AG5="U")*($C$4:$AG$4=1))+0.5*SUMPRODUCT((C5:AG5="H")*($C$4:$AG$4=1)) | AI5: =SUMPRODUCT((C5:AG5="K")*($C$4:$AG$4=1))
A6: =IF(Team!A5="","",Team!A5) | AH6: =SUMPRODUCT((C6:AG6="U")*($C$4:$AG$4=1))+0.5*SUMPRODUCT((C6:AG6="H")*($C$4:$AG$4=1)) | AI6: =SUMPRODUCT((C6:AG6="K")*($C$4:$AG$4=1))
A7: =IF(Team!A6="","",Team!A6) | AH7: =SUMPRODUCT((C7:AG7="U")*($C$4:$AG$4=1))+0.5*SUMPRODUCT((C7:AG7="H")*($C$4:$AG$4=1)) | AI7: =SUMPRODUCT((C7:AG7="K")*($C$4:$AG$4=1))
A8: =IF(Team!A7="","",Team!A7) | AH8: =SUMPRODUCT((C8:AG8="U")*($C$4:$AG$4=1))+0.5*SUMPRODUCT((C8:AG8="H")*($C$4:$AG$4=1)) | AI8: =SUMPRODUCT((C8:AG8="K")*($C$4:$AG$4=1))
A9: =IF(Team!A8="","",Team!A8) | AH9: =SUMPRODUCT((C9:AG9="U")*($C$4:$AG$4=1))+0.5*SUMPRODUCT((C9:AG9="H")*($C$4:$AG$4=1)) | AI9: =SUMPRODUCT((C9:AG9="K")*($C$4:$AG$4=1))
A10: =IF(Team!A9="","",Team!A9) | AH10: =SUMPRODUCT((C10:AG10="U")*($C$4:$AG$4=1))+0.5*SUMPRODUCT((C10:AG10="H")*($C$4:$AG$4=1)) | AI10: =SUMPRODUCT((C10:AG10="K")*($C$4:$AG$4=1))
A11: =IF(Team!A10="","",Team!A10) | AH11: =SUMPRODUCT((C11:AG11="U")*($C$4:$AG$4=1))+0.5*SUMPRODUCT((C11:AG11="H")*($C$4:$AG$4=1)) | AI11: =SUMPRODUCT((C11:AG11="K")*($C$4:$AG$4=1))
A12: =IF(Team!A11="","",Team!A11) | AH12: =SUMPRODUCT((C12:AG12="U")*($C$4:$AG$4=1))+0.5*SUMPRODUCT((C12:AG12="H")*($C$4:$AG$4=1)) | AI12: =SUMPRODUCT((C12:AG12="K")*($C$4:$AG$4=1))
A13: =IF(Team!A12="","",Team!A12) | AH13: =SUMPRODUCT((C13:AG13="U")*($C$4:$AG$4=1))+0.5*SUMPRODUCT((C13:AG13="H")*($C$4:$AG$4=1)) | AI13: =SUMPRODUCT((C13:AG13="K")*($C$4:$AG$4=1))
A14: =IF(Team!A13="","",Team!A13) | AH14: =SUMPRODUCT((C14:AG14="U")*($C$4:$AG$4=1))+0.5*SUMPRODUCT((C14:AG14="H")*($C$4:$AG$4=1)) | AI14: =SUMPRODUCT((C14:AG14="K")*($C$4:$AG$4=1))
A15: =IF(Team!A14="","",Team!A14) | AH15: =SUMPRODUCT((C15:AG15="U")*($C$4:$AG$4=1))+0.5*SUMPRODUCT((C15:AG15="H")*($C$4:$AG$4=1)) | AI15: =SUMPRODUCT((C15:AG15="K")*($C$4:$AG$4=1))
A16: =IF(Team!A15="","",Team!A15) | AH16: =SUMPRODUCT((C16:AG16="U")*($C$4:$AG$4=1))+0.5*SUMPRODUCT((C16:AG16="H")*($C$4:$AG$4=1)) | AI16: =SUMPRODUCT((C16:AG16="K")*($C$4:$AG$4=1))
... A24: =IF(Team!A23="","",Team!A23) | AH24: =SUMPRODUCT((C24:AG24="U")*($C$4:$AG$4=1))+0.5*SUMPRODUCT((C24:AG24="H")*($C$4:$AG$4=1)) | AI24: =SUMPRODUCT((C24:AG24="K")*($C$4:$AG$4=1))
A25: Abwesend | C25: =COUNTIF(C5:C24,"?*") | D25: =COUNTIF(D5:D24,"?*") | E25: =COUNTIF(E5:E24,"?*") | F25: =COUNTIF(F5:F24,"?*") | G25: =COUNTIF(G5:G24,"?*") | H25: =COUNTIF(H5:H24,"?*") | I25: =COUNTIF(I5:I24,"?*") | J25: =COUNTIF(J5:J24,"?*") | ... AG25: =COUNTIF(AG5:AG24,"?*")

Sheet Jun
A1: Juni 2027
A2: Tag | C2: =C3 | D2: =D3 | E2: =E3 | F2: =F3 | G2: =G3 | H2: =H3 | I2: =I3 | J2: =J3 | ... AF2: =AF3
A3: Datum | C3: 46539 | D3: 46540 | E3: 46541 | F3: 46542 | G3: 46543 | H3: 46544 | I3: 46545 | J3: 46546 | K3: 46547 | L3: 46548 | M3: 46549 | N3: 46550 | O3: 46551 | P3: 46552 | Q3: 46553 | R3: 46554 | S3: 46555 | T3: 46556 | U3: 46557 | V3: 46558 | W3: 46559 | X3: 46560 | Y3: 46561 | Z3: 46562 | AA3: 46563 | AB3: 46564 | AC3: 46565 | AD3: 46566 | AE3: 46567 | AF3: 46568 | AH3: Urlaub | AI3: Krank
A4: Arbeitstag (1 = ja) | C4: =IF(WEEKDAY(C3,2)>5,0,IF(COUNTIFS(Feiertage!$A$3:$A$19,C3,Feiertage!$S$3:$S$19,1)>0,0,1)) | D4: =IF(WEEKDAY(D3,2)>5,0,IF(COUNTIFS(Feiertage!$A$3:$A$19,D3,Feiertage!$S$3:$S$19,1)>0,0,1)) | E4: =IF(WEEKDAY(E3,2)>5,0,IF(COUNTIFS(Feiertage!$A$3:$A$19,E3,Feiertage!$S$3:$S$19,1)>0,0,1)) | F4: =IF(WEEKDAY(F3,2)>5,0,IF(COUNTIFS(Feiertage!$A$3:$A$19,F3,Feiertage!$S$3:$S$19,1)>0,0,1)) | G4: =IF(WEEKDAY(G3,2)>5,0,IF(COUNTIFS(Feiertage!$A$3:$A$19,G3,Feiertage!$S$3:$S$19,1)>0,0,1)) | H4: =IF(WEEKDAY(H3,2)>5,0,IF(COUNTIFS(Feiertage!$A$3:$A$19,H3,Feiertage!$S$3:$S$19,1)>0,0,1)) | I4: =IF(WEEKDAY(I3,2)>5,0,IF(COUNTIFS(Feiertage!$A$3:$A$19,I3,Feiertage!$S$3:$S$19,1)>0,0,1)) | J4: =IF(WEEKDAY(J3,2)>5,0,IF(COUNTIFS(Feiertage!$A$3:$A$19,J3,Feiertage!$S$3:$S$19,1)>0,0,1)) | ... AF4: =IF(WEEKDAY(AF3,2)>5,0,IF(COUNTIFS(Feiertage!$A$3:$A$19,AF3,Feiertage!$S$3:$S$19,1)>0,0,1))
A5: =IF(Team!A4="","",Team!A4) | AH5: =SUMPRODUCT((C5:AG5="U")*($C$4:$AG$4=1))+0.5*SUMPRODUCT((C5:AG5="H")*($C$4:$AG$4=1)) | AI5: =SUMPRODUCT((C5:AG5="K")*($C$4:$AG$4=1))
A6: =IF(Team!A5="","",Team!A5) | AH6: =SUMPRODUCT((C6:AG6="U")*($C$4:$AG$4=1))+0.5*SUMPRODUCT((C6:AG6="H")*($C$4:$AG$4=1)) | AI6: =SUMPRODUCT((C6:AG6="K")*($C$4:$AG$4=1))
A7: =IF(Team!A6="","",Team!A6) | AH7: =SUMPRODUCT((C7:AG7="U")*($C$4:$AG$4=1))+0.5*SUMPRODUCT((C7:AG7="H")*($C$4:$AG$4=1)) | AI7: =SUMPRODUCT((C7:AG7="K")*($C$4:$AG$4=1))
A8: =IF(Team!A7="","",Team!A7) | AH8: =SUMPRODUCT((C8:AG8="U")*($C$4:$AG$4=1))+0.5*SUMPRODUCT((C8:AG8="H")*($C$4:$AG$4=1)) | AI8: =SUMPRODUCT((C8:AG8="K")*($C$4:$AG$4=1))
A9: =IF(Team!A8="","",Team!A8) | AH9: =SUMPRODUCT((C9:AG9="U")*($C$4:$AG$4=1))+0.5*SUMPRODUCT((C9:AG9="H")*($C$4:$AG$4=1)) | AI9: =SUMPRODUCT((C9:AG9="K")*($C$4:$AG$4=1))
A10: =IF(Team!A9="","",Team!A9) | AH10: =SUMPRODUCT((C10:AG10="U")*($C$4:$AG$4=1))+0.5*SUMPRODUCT((C10:AG10="H")*($C$4:$AG$4=1)) | AI10: =SUMPRODUCT((C10:AG10="K")*($C$4:$AG$4=1))
A11: =IF(Team!A10="","",Team!A10) | AH11: =SUMPRODUCT((C11:AG11="U")*($C$4:$AG$4=1))+0.5*SUMPRODUCT((C11:AG11="H")*($C$4:$AG$4=1)) | AI11: =SUMPRODUCT((C11:AG11="K")*($C$4:$AG$4=1))
A12: =IF(Team!A11="","",Team!A11) | AH12: =SUMPRODUCT((C12:AG12="U")*($C$4:$AG$4=1))+0.5*SUMPRODUCT((C12:AG12="H")*($C$4:$AG$4=1)) | AI12: =SUMPRODUCT((C12:AG12="K")*($C$4:$AG$4=1))
A13: =IF(Team!A12="","",Team!A12) | AH13: =SUMPRODUCT((C13:AG13="U")*($C$4:$AG$4=1))+0.5*SUMPRODUCT((C13:AG13="H")*($C$4:$AG$4=1)) | AI13: =SUMPRODUCT((C13:AG13="K")*($C$4:$AG$4=1))
A14: =IF(Team!A13="","",Team!A13) | AH14: =SUMPRODUCT((C14:AG14="U")*($C$4:$AG$4=1))+0.5*SUMPRODUCT((C14:AG14="H")*($C$4:$AG$4=1)) | AI14: =SUMPRODUCT((C14:AG14="K")*($C$4:$AG$4=1))
A15: =IF(Team!A14="","",Team!A14) | AH15: =SUMPRODUCT((C15:AG15="U")*($C$4:$AG$4=1))+0.5*SUMPRODUCT((C15:AG15="H")*($C$4:$AG$4=1)) | AI15: =SUMPRODUCT((C15:AG15="K")*($C$4:$AG$4=1))
A16: =IF(Team!A15="","",Team!A15) | AH16: =SUMPRODUCT((C16:AG16="U")*($C$4:$AG$4=1))+0.5*SUMPRODUCT((C16:AG16="H")*($C$4:$AG$4=1)) | AI16: =SUMPRODUCT((C16:AG16="K")*($C$4:$AG$4=1))
... A24: =IF(Team!A23="","",Team!A23) | AH24: =SUMPRODUCT((C24:AG24="U")*($C$4:$AG$4=1))+0.5*SUMPRODUCT((C24:AG24="H")*($C$4:$AG$4=1)) | AI24: =SUMPRODUCT((C24:AG24="K")*($C$4:$AG$4=1))
A25: Abwesend | C25: =COUNTIF(C5:C24,"?*") | D25: =COUNTIF(D5:D24,"?*") | E25: =COUNTIF(E5:E24,"?*") | F25: =COUNTIF(F5:F24,"?*") | G25: =COUNTIF(G5:G24,"?*") | H25: =COUNTIF(H5:H24,"?*") | I25: =COUNTIF(I5:I24,"?*") | J25: =COUNTIF(J5:J24,"?*") | ... AF25: =COUNTIF(AF5:AF24,"?*")

Sheet Jul
A1: Juli 2027
A2: Tag | C2: =C3 | D2: =D3 | E2: =E3 | F2: =F3 | G2: =G3 | H2: =H3 | I2: =I3 | J2: =J3 | ... AG2: =AG3
A3: Datum | C3: 46569 | D3: 46570 | E3: 46571 | F3: 46572 | G3: 46573 | H3: 46574 | I3: 46575 | J3: 46576 | K3: 46577 | L3: 46578 | M3: 46579 | N3: 46580 | O3: 46581 | P3: 46582 | Q3: 46583 | R3: 46584 | S3: 46585 | T3: 46586 | U3: 46587 | V3: 46588 | W3: 46589 | X3: 46590 | Y3: 46591 | Z3: 46592 | AA3: 46593 | AB3: 46594 | AC3: 46595 | AD3: 46596 | AE3: 46597 | AF3: 46598 | AG3: 46599 | AH3: Urlaub | AI3: Krank
A4: Arbeitstag (1 = ja) | C4: =IF(WEEKDAY(C3,2)>5,0,IF(COUNTIFS(Feiertage!$A$3:$A$19,C3,Feiertage!$S$3:$S$19,1)>0,0,1)) | D4: =IF(WEEKDAY(D3,2)>5,0,IF(COUNTIFS(Feiertage!$A$3:$A$19,D3,Feiertage!$S$3:$S$19,1)>0,0,1)) | E4: =IF(WEEKDAY(E3,2)>5,0,IF(COUNTIFS(Feiertage!$A$3:$A$19,E3,Feiertage!$S$3:$S$19,1)>0,0,1)) | F4: =IF(WEEKDAY(F3,2)>5,0,IF(COUNTIFS(Feiertage!$A$3:$A$19,F3,Feiertage!$S$3:$S$19,1)>0,0,1)) | G4: =IF(WEEKDAY(G3,2)>5,0,IF(COUNTIFS(Feiertage!$A$3:$A$19,G3,Feiertage!$S$3:$S$19,1)>0,0,1)) | H4: =IF(WEEKDAY(H3,2)>5,0,IF(COUNTIFS(Feiertage!$A$3:$A$19,H3,Feiertage!$S$3:$S$19,1)>0,0,1)) | I4: =IF(WEEKDAY(I3,2)>5,0,IF(COUNTIFS(Feiertage!$A$3:$A$19,I3,Feiertage!$S$3:$S$19,1)>0,0,1)) | J4: =IF(WEEKDAY(J3,2)>5,0,IF(COUNTIFS(Feiertage!$A$3:$A$19,J3,Feiertage!$S$3:$S$19,1)>0,0,1)) | ... AG4: =IF(WEEKDAY(AG3,2)>5,0,IF(COUNTIFS(Feiertage!$A$3:$A$19,AG3,Feiertage!$S$3:$S$19,1)>0,0,1))
A5: =IF(Team!A4="","",Team!A4) | AH5: =SUMPRODUCT((C5:AG5="U")*($C$4:$AG$4=1))+0.5*SUMPRODUCT((C5:AG5="H")*($C$4:$AG$4=1)) | AI5: =SUMPRODUCT((C5:AG5="K")*($C$4:$AG$4=1))
A6: =IF(Team!A5="","",Team!A5) | AH6: =SUMPRODUCT((C6:AG6="U")*($C$4:$AG$4=1))+0.5*SUMPRODUCT((C6:AG6="H")*($C$4:$AG$4=1)) | AI6: =SUMPRODUCT((C6:AG6="K")*($C$4:$AG$4=1))
A7: =IF(Team!A6="","",Team!A6) | AH7: =SUMPRODUCT((C7:AG7="U")*($C$4:$AG$4=1))+0.5*SUMPRODUCT((C7:AG7="H")*($C$4:$AG$4=1)) | AI7: =SUMPRODUCT((C7:AG7="K")*($C$4:$AG$4=1))
A8: =IF(Team!A7="","",Team!A7) | AH8: =SUMPRODUCT((C8:AG8="U")*($C$4:$AG$4=1))+0.5*SUMPRODUCT((C8:AG8="H")*($C$4:$AG$4=1)) | AI8: =SUMPRODUCT((C8:AG8="K")*($C$4:$AG$4=1))
A9: =IF(Team!A8="","",Team!A8) | AH9: =SUMPRODUCT((C9:AG9="U")*($C$4:$AG$4=1))+0.5*SUMPRODUCT((C9:AG9="H")*($C$4:$AG$4=1)) | AI9: =SUMPRODUCT((C9:AG9="K")*($C$4:$AG$4=1))
A10: =IF(Team!A9="","",Team!A9) | AH10: =SUMPRODUCT((C10:AG10="U")*($C$4:$AG$4=1))+0.5*SUMPRODUCT((C10:AG10="H")*($C$4:$AG$4=1)) | AI10: =SUMPRODUCT((C10:AG10="K")*($C$4:$AG$4=1))
A11: =IF(Team!A10="","",Team!A10) | AH11: =SUMPRODUCT((C11:AG11="U")*($C$4:$AG$4=1))+0.5*SUMPRODUCT((C11:AG11="H")*($C$4:$AG$4=1)) | AI11: =SUMPRODUCT((C11:AG11="K")*($C$4:$AG$4=1))
A12: =IF(Team!A11="","",Team!A11) | AH12: =SUMPRODUCT((C12:AG12="U")*($C$4:$AG$4=1))+0.5*SUMPRODUCT((C12:AG12="H")*($C$4:$AG$4=1)) | AI12: =SUMPRODUCT((C12:AG12="K")*($C$4:$AG$4=1))
A13: =IF(Team!A12="","",Team!A12) | AH13: =SUMPRODUCT((C13:AG13="U")*($C$4:$AG$4=1))+0.5*SUMPRODUCT((C13:AG13="H")*($C$4:$AG$4=1)) | AI13: =SUMPRODUCT((C13:AG13="K")*($C$4:$AG$4=1))
A14: =IF(Team!A13="","",Team!A13) | AH14: =SUMPRODUCT((C14:AG14="U")*($C$4:$AG$4=1))+0.5*SUMPRODUCT((C14:AG14="H")*($C$4:$AG$4=1)) | AI14: =SUMPRODUCT((C14:AG14="K")*($C$4:$AG$4=1))
A15: =IF(Team!A14="","",Team!A14) | AH15: =SUMPRODUCT((C15:AG15="U")*($C$4:$AG$4=1))+0.5*SUMPRODUCT((C15:AG15="H")*($C$4:$AG$4=1)) | AI15: =SUMPRODUCT((C15:AG15="K")*($C$4:$AG$4=1))
A16: =IF(Team!A15="","",Team!A15) | AH16: =SUMPRODUCT((C16:AG16="U")*($C$4:$AG$4=1))+0.5*SUMPRODUCT((C16:AG16="H")*($C$4:$AG$4=1)) | AI16: =SUMPRODUCT((C16:AG16="K")*($C$4:$AG$4=1))
... A24: =IF(Team!A23="","",Team!A23) | AH24: =SUMPRODUCT((C24:AG24="U")*($C$4:$AG$4=1))+0.5*SUMPRODUCT((C24:AG24="H")*($C$4:$AG$4=1)) | AI24: =SUMPRODUCT((C24:AG24="K")*($C$4:$AG$4=1))
A25: Abwesend | C25: =COUNTIF(C5:C24,"?*") | D25: =COUNTIF(D5:D24,"?*") | E25: =COUNTIF(E5:E24,"?*") | F25: =COUNTIF(F5:F24,"?*") | G25: =COUNTIF(G5:G24,"?*") | H25: =COUNTIF(H5:H24,"?*") | I25: =COUNTIF(I5:I24,"?*") | J25: =COUNTIF(J5:J24,"?*") | ... AG25: =COUNTIF(AG5:AG24,"?*")

Sheet Aug
A1: August 2027
A2: Tag | C2: =C3 | D2: =D3 | E2: =E3 | F2: =F3 | G2: =G3 | H2: =H3 | I2: =I3 | J2: =J3 | ... AG2: =AG3
A3: Datum | C3: 46600 | D3: 46601 | E3: 46602 | F3: 46603 | G3: 46604 | H3: 46605 | I3: 46606 | J3: 46607 | K3: 46608 | L3: 46609 | M3: 46610 | N3: 46611 | O3: 46612 | P3: 46613 | Q3: 46614 | R3: 46615 | S3: 46616 | T3: 46617 | U3: 46618 | V3: 46619 | W3: 46620 | X3: 46621 | Y3: 46622 | Z3: 46623 | AA3: 46624 | AB3: 46625 | AC3: 46626 | AD3: 46627 | AE3: 46628 | AF3: 46629 | AG3: 46630 | AH3: Urlaub | AI3: Krank
A4: Arbeitstag (1 = ja) | C4: =IF(WEEKDAY(C3,2)>5,0,IF(COUNTIFS(Feiertage!$A$3:$A$19,C3,Feiertage!$S$3:$S$19,1)>0,0,1)) | D4: =IF(WEEKDAY(D3,2)>5,0,IF(COUNTIFS(Feiertage!$A$3:$A$19,D3,Feiertage!$S$3:$S$19,1)>0,0,1)) | E4: =IF(WEEKDAY(E3,2)>5,0,IF(COUNTIFS(Feiertage!$A$3:$A$19,E3,Feiertage!$S$3:$S$19,1)>0,0,1)) | F4: =IF(WEEKDAY(F3,2)>5,0,IF(COUNTIFS(Feiertage!$A$3:$A$19,F3,Feiertage!$S$3:$S$19,1)>0,0,1)) | G4: =IF(WEEKDAY(G3,2)>5,0,IF(COUNTIFS(Feiertage!$A$3:$A$19,G3,Feiertage!$S$3:$S$19,1)>0,0,1)) | H4: =IF(WEEKDAY(H3,2)>5,0,IF(COUNTIFS(Feiertage!$A$3:$A$19,H3,Feiertage!$S$3:$S$19,1)>0,0,1)) | I4: =IF(WEEKDAY(I3,2)>5,0,IF(COUNTIFS(Feiertage!$A$3:$A$19,I3,Feiertage!$S$3:$S$19,1)>0,0,1)) | J4: =IF(WEEKDAY(J3,2)>5,0,IF(COUNTIFS(Feiertage!$A$3:$A$19,J3,Feiertage!$S$3:$S$19,1)>0,0,1)) | ... AG4: =IF(WEEKDAY(AG3,2)>5,0,IF(COUNTIFS(Feiertage!$A$3:$A$19,AG3,Feiertage!$S$3:$S$19,1)>0,0,1))
A5: =IF(Team!A4="","",Team!A4) | AH5: =SUMPRODUCT((C5:AG5="U")*($C$4:$AG$4=1))+0.5*SUMPRODUCT((C5:AG5="H")*($C$4:$AG$4=1)) | AI5: =SUMPRODUCT((C5:AG5="K")*($C$4:$AG$4=1))
A6: =IF(Team!A5="","",Team!A5) | AH6: =SUMPRODUCT((C6:AG6="U")*($C$4:$AG$4=1))+0.5*SUMPRODUCT((C6:AG6="H")*($C$4:$AG$4=1)) | AI6: =SUMPRODUCT((C6:AG6="K")*($C$4:$AG$4=1))
A7: =IF(Team!A6="","",Team!A6) | AH7: =SUMPRODUCT((C7:AG7="U")*($C$4:$AG$4=1))+0.5*SUMPRODUCT((C7:AG7="H")*($C$4:$AG$4=1)) | AI7: =SUMPRODUCT((C7:AG7="K")*($C$4:$AG$4=1))
A8: =IF(Team!A7="","",Team!A7) | AH8: =SUMPRODUCT((C8:AG8="U")*($C$4:$AG$4=1))+0.5*SUMPRODUCT((C8:AG8="H")*($C$4:$AG$4=1)) | AI8: =SUMPRODUCT((C8:AG8="K")*($C$4:$AG$4=1))
A9: =IF(Team!A8="","",Team!A8) | AH9: =SUMPRODUCT((C9:AG9="U")*($C$4:$AG$4=1))+0.5*SUMPRODUCT((C9:AG9="H")*($C$4:$AG$4=1)) | AI9: =SUMPRODUCT((C9:AG9="K")*($C$4:$AG$4=1))
A10: =IF(Team!A9="","",Team!A9) | AH10: =SUMPRODUCT((C10:AG10="U")*($C$4:$AG$4=1))+0.5*SUMPRODUCT((C10:AG10="H")*($C$4:$AG$4=1)) | AI10: =SUMPRODUCT((C10:AG10="K")*($C$4:$AG$4=1))
A11: =IF(Team!A10="","",Team!A10) | AH11: =SUMPRODUCT((C11:AG11="U")*($C$4:$AG$4=1))+0.5*SUMPRODUCT((C11:AG11="H")*($C$4:$AG$4=1)) | AI11: =SUMPRODUCT((C11:AG11="K")*($C$4:$AG$4=1))
A12: =IF(Team!A11="","",Team!A11) | AH12: =SUMPRODUCT((C12:AG12="U")*($C$4:$AG$4=1))+0.5*SUMPRODUCT((C12:AG12="H")*($C$4:$AG$4=1)) | AI12: =SUMPRODUCT((C12:AG12="K")*($C$4:$AG$4=1))
A13: =IF(Team!A12="","",Team!A12) | AH13: =SUMPRODUCT((C13:AG13="U")*($C$4:$AG$4=1))+0.5*SUMPRODUCT((C13:AG13="H")*($C$4:$AG$4=1)) | AI13: =SUMPRODUCT((C13:AG13="K")*($C$4:$AG$4=1))
A14: =IF(Team!A13="","",Team!A13) | AH14: =SUMPRODUCT((C14:AG14="U")*($C$4:$AG$4=1))+0.5*SUMPRODUCT((C14:AG14="H")*($C$4:$AG$4=1)) | AI14: =SUMPRODUCT((C14:AG14="K")*($C$4:$AG$4=1))
A15: =IF(Team!A14="","",Team!A14) | AH15: =SUMPRODUCT((C15:AG15="U")*($C$4:$AG$4=1))+0.5*SUMPRODUCT((C15:AG15="H")*($C$4:$AG$4=1)) | AI15: =SUMPRODUCT((C15:AG15="K")*($C$4:$AG$4=1))
A16: =IF(Team!A15="","",Team!A15) | AH16: =SUMPRODUCT((C16:AG16="U")*($C$4:$AG$4=1))+0.5*SUMPRODUCT((C16:AG16="H")*($C$4:$AG$4=1)) | AI16: =SUMPRODUCT((C16:AG16="K")*($C$4:$AG$4=1))
... A24: =IF(Team!A23="","",Team!A23) | AH24: =SUMPRODUCT((C24:AG24="U")*($C$4:$AG$4=1))+0.5*SUMPRODUCT((C24:AG24="H")*($C$4:$AG$4=1)) | AI24: =SUMPRODUCT((C24:AG24="K")*($C$4:$AG$4=1))
A25: Abwesend | C25: =COUNTIF(C5:C24,"?*") | D25: =COUNTIF(D5:D24,"?*") | E25: =COUNTIF(E5:E24,"?*") | F25: =COUNTIF(F5:F24,"?*") | G25: =COUNTIF(G5:G24,"?*") | H25: =COUNTIF(H5:H24,"?*") | I25: =COUNTIF(I5:I24,"?*") | J25: =COUNTIF(J5:J24,"?*") | ... AG25: =COUNTIF(AG5:AG24,"?*")

Sheet Sep
A1: September 2027
A2: Tag | C2: =C3 | D2: =D3 | E2: =E3 | F2: =F3 | G2: =G3 | H2: =H3 | I2: =I3 | J2: =J3 | ... AF2: =AF3
A3: Datum | C3: 46631 | D3: 46632 | E3: 46633 | F3: 46634 | G3: 46635 | H3: 46636 | I3: 46637 | J3: 46638 | K3: 46639 | L3: 46640 | M3: 46641 | N3: 46642 | O3: 46643 | P3: 46644 | Q3: 46645 | R3: 46646 | S3: 46647 | T3: 46648 | U3: 46649 | V3: 46650 | W3: 46651 | X3: 46652 | Y3: 46653 | Z3: 46654 | AA3: 46655 | AB3: 46656 | AC3: 46657 | AD3: 46658 | AE3: 46659 | AF3: 46660 | AH3: Urlaub | AI3: Krank
A4: Arbeitstag (1 = ja) | C4: =IF(WEEKDAY(C3,2)>5,0,IF(COUNTIFS(Feiertage!$A$3:$A$19,C3,Feiertage!$S$3:$S$19,1)>0,0,1)) | D4: =IF(WEEKDAY(D3,2)>5,0,IF(COUNTIFS(Feiertage!$A$3:$A$19,D3,Feiertage!$S$3:$S$19,1)>0,0,1)) | E4: =IF(WEEKDAY(E3,2)>5,0,IF(COUNTIFS(Feiertage!$A$3:$A$19,E3,Feiertage!$S$3:$S$19,1)>0,0,1)) | F4: =IF(WEEKDAY(F3,2)>5,0,IF(COUNTIFS(Feiertage!$A$3:$A$19,F3,Feiertage!$S$3:$S$19,1)>0,0,1)) | G4: =IF(WEEKDAY(G3,2)>5,0,IF(COUNTIFS(Feiertage!$A$3:$A$19,G3,Feiertage!$S$3:$S$19,1)>0,0,1)) | H4: =IF(WEEKDAY(H3,2)>5,0,IF(COUNTIFS(Feiertage!$A$3:$A$19,H3,Feiertage!$S$3:$S$19,1)>0,0,1)) | I4: =IF(WEEKDAY(I3,2)>5,0,IF(COUNTIFS(Feiertage!$A$3:$A$19,I3,Feiertage!$S$3:$S$19,1)>0,0,1)) | J4: =IF(WEEKDAY(J3,2)>5,0,IF(COUNTIFS(Feiertage!$A$3:$A$19,J3,Feiertage!$S$3:$S$19,1)>0,0,1)) | ... AF4: =IF(WEEKDAY(AF3,2)>5,0,IF(COUNTIFS(Feiertage!$A$3:$A$19,AF3,Feiertage!$S$3:$S$19,1)>0,0,1))
A5: =IF(Team!A4="","",Team!A4) | AH5: =SUMPRODUCT((C5:AG5="U")*($C$4:$AG$4=1))+0.5*SUMPRODUCT((C5:AG5="H")*($C$4:$AG$4=1)) | AI5: =SUMPRODUCT((C5:AG5="K")*($C$4:$AG$4=1))
A6: =IF(Team!A5="","",Team!A5) | AH6: =SUMPRODUCT((C6:AG6="U")*($C$4:$AG$4=1))+0.5*SUMPRODUCT((C6:AG6="H")*($C$4:$AG$4=1)) | AI6: =SUMPRODUCT((C6:AG6="K")*($C$4:$AG$4=1))
A7: =IF(Team!A6="","",Team!A6) | AH7: =SUMPRODUCT((C7:AG7="U")*($C$4:$AG$4=1))+0.5*SUMPRODUCT((C7:AG7="H")*($C$4:$AG$4=1)) | AI7: =SUMPRODUCT((C7:AG7="K")*($C$4:$AG$4=1))
A8: =IF(Team!A7="","",Team!A7) | AH8: =SUMPRODUCT((C8:AG8="U")*($C$4:$AG$4=1))+0.5*SUMPRODUCT((C8:AG8="H")*($C$4:$AG$4=1)) | AI8: =SUMPRODUCT((C8:AG8="K")*($C$4:$AG$4=1))
A9: =IF(Team!A8="","",Team!A8) | AH9: =SUMPRODUCT((C9:AG9="U")*($C$4:$AG$4=1))+0.5*SUMPRODUCT((C9:AG9="H")*($C$4:$AG$4=1)) | AI9: =SUMPRODUCT((C9:AG9="K")*($C$4:$AG$4=1))
A10: =IF(Team!A9="","",Team!A9) | AH10: =SUMPRODUCT((C10:AG10="U")*($C$4:$AG$4=1))+0.5*SUMPRODUCT((C10:AG10="H")*($C$4:$AG$4=1)) | AI10: =SUMPRODUCT((C10:AG10="K")*($C$4:$AG$4=1))
A11: =IF(Team!A10="","",Team!A10) | AH11: =SUMPRODUCT((C11:AG11="U")*($C$4:$AG$4=1))+0.5*SUMPRODUCT((C11:AG11="H")*($C$4:$AG$4=1)) | AI11: =SUMPRODUCT((C11:AG11="K")*($C$4:$AG$4=1))
A12: =IF(Team!A11="","",Team!A11) | AH12: =SUMPRODUCT((C12:AG12="U")*($C$4:$AG$4=1))+0.5*SUMPRODUCT((C12:AG12="H")*($C$4:$AG$4=1)) | AI12: =SUMPRODUCT((C12:AG12="K")*($C$4:$AG$4=1))
A13: =IF(Team!A12="","",Team!A12) | AH13: =SUMPRODUCT((C13:AG13="U")*($C$4:$AG$4=1))+0.5*SUMPRODUCT((C13:AG13="H")*($C$4:$AG$4=1)) | AI13: =SUMPRODUCT((C13:AG13="K")*($C$4:$AG$4=1))
A14: =IF(Team!A13="","",Team!A13) | AH14: =SUMPRODUCT((C14:AG14="U")*($C$4:$AG$4=1))+0.5*SUMPRODUCT((C14:AG14="H")*($C$4:$AG$4=1)) | AI14: =SUMPRODUCT((C14:AG14="K")*($C$4:$AG$4=1))
A15: =IF(Team!A14="","",Team!A14) | AH15: =SUMPRODUCT((C15:AG15="U")*($C$4:$AG$4=1))+0.5*SUMPRODUCT((C15:AG15="H")*($C$4:$AG$4=1)) | AI15: =SUMPRODUCT((C15:AG15="K")*($C$4:$AG$4=1))
A16: =IF(Team!A15="","",Team!A15) | AH16: =SUMPRODUCT((C16:AG16="U")*($C$4:$AG$4=1))+0.5*SUMPRODUCT((C16:AG16="H")*($C$4:$AG$4=1)) | AI16: =SUMPRODUCT((C16:AG16="K")*($C$4:$AG$4=1))
... A24: =IF(Team!A23="","",Team!A23) | AH24: =SUMPRODUCT((C24:AG24="U")*($C$4:$AG$4=1))+0.5*SUMPRODUCT((C24:AG24="H")*($C$4:$AG$4=1)) | AI24: =SUMPRODUCT((C24:AG24="K")*($C$4:$AG$4=1))
A25: Abwesend | C25: =COUNTIF(C5:C24,"?*") | D25: =COUNTIF(D5:D24,"?*") | E25: =COUNTIF(E5:E24,"?*") | F25: =COUNTIF(F5:F24,"?*") | G25: =COUNTIF(G5:G24,"?*") | H25: =COUNTIF(H5:H24,"?*") | I25: =COUNTIF(I5:I24,"?*") | J25: =COUNTIF(J5:J24,"?*") | ... AF25: =COUNTIF(AF5:AF24,"?*")

Sheet Okt
A1: Oktober 2027
A2: Tag | C2: =C3 | D2: =D3 | E2: =E3 | F2: =F3 | G2: =G3 | H2: =H3 | I2: =I3 | J2: =J3 | ... AG2: =AG3
A3: Datum | C3: 46661 | D3: 46662 | E3: 46663 | F3: 46664 | G3: 46665 | H3: 46666 | I3: 46667 | J3: 46668 | K3: 46669 | L3: 46670 | M3: 46671 | N3: 46672 | O3: 46673 | P3: 46674 | Q3: 46675 | R3: 46676 | S3: 46677 | T3: 46678 | U3: 46679 | V3: 46680 | W3: 46681 | X3: 46682 | Y3: 46683 | Z3: 46684 | AA3: 46685 | AB3: 46686 | AC3: 46687 | AD3: 46688 | AE3: 46689 | AF3: 46690 | AG3: 46691 | AH3: Urlaub | AI3: Krank
A4: Arbeitstag (1 = ja) | C4: =IF(WEEKDAY(C3,2)>5,0,IF(COUNTIFS(Feiertage!$A$3:$A$19,C3,Feiertage!$S$3:$S$19,1)>0,0,1)) | D4: =IF(WEEKDAY(D3,2)>5,0,IF(COUNTIFS(Feiertage!$A$3:$A$19,D3,Feiertage!$S$3:$S$19,1)>0,0,1)) | E4: =IF(WEEKDAY(E3,2)>5,0,IF(COUNTIFS(Feiertage!$A$3:$A$19,E3,Feiertage!$S$3:$S$19,1)>0,0,1)) | F4: =IF(WEEKDAY(F3,2)>5,0,IF(COUNTIFS(Feiertage!$A$3:$A$19,F3,Feiertage!$S$3:$S$19,1)>0,0,1)) | G4: =IF(WEEKDAY(G3,2)>5,0,IF(COUNTIFS(Feiertage!$A$3:$A$19,G3,Feiertage!$S$3:$S$19,1)>0,0,1)) | H4: =IF(WEEKDAY(H3,2)>5,0,IF(COUNTIFS(Feiertage!$A$3:$A$19,H3,Feiertage!$S$3:$S$19,1)>0,0,1)) | I4: =IF(WEEKDAY(I3,2)>5,0,IF(COUNTIFS(Feiertage!$A$3:$A$19,I3,Feiertage!$S$3:$S$19,1)>0,0,1)) | J4: =IF(WEEKDAY(J3,2)>5,0,IF(COUNTIFS(Feiertage!$A$3:$A$19,J3,Feiertage!$S$3:$S$19,1)>0,0,1)) | ... AG4: =IF(WEEKDAY(AG3,2)>5,0,IF(COUNTIFS(Feiertage!$A$3:$A$19,AG3,Feiertage!$S$3:$S$19,1)>0,0,1))
A5: =IF(Team!A4="","",Team!A4) | AH5: =SUMPRODUCT((C5:AG5="U")*($C$4:$AG$4=1))+0.5*SUMPRODUCT((C5:AG5="H")*($C$4:$AG$4=1)) | AI5: =SUMPRODUCT((C5:AG5="K")*($C$4:$AG$4=1))
A6: =IF(Team!A5="","",Team!A5) | AH6: =SUMPRODUCT((C6:AG6="U")*($C$4:$AG$4=1))+0.5*SUMPRODUCT((C6:AG6="H")*($C$4:$AG$4=1)) | AI6: =SUMPRODUCT((C6:AG6="K")*($C$4:$AG$4=1))
A7: =IF(Team!A6="","",Team!A6) | AH7: =SUMPRODUCT((C7:AG7="U")*($C$4:$AG$4=1))+0.5*SUMPRODUCT((C7:AG7="H")*($C$4:$AG$4=1)) | AI7: =SUMPRODUCT((C7:AG7="K")*($C$4:$AG$4=1))
A8: =IF(Team!A7="","",Team!A7) | AH8: =SUMPRODUCT((C8:AG8="U")*($C$4:$AG$4=1))+0.5*SUMPRODUCT((C8:AG8="H")*($C$4:$AG$4=1)) | AI8: =SUMPRODUCT((C8:AG8="K")*($C$4:$AG$4=1))
A9: =IF(Team!A8="","",Team!A8) | AH9: =SUMPRODUCT((C9:AG9="U")*($C$4:$AG$4=1))+0.5*SUMPRODUCT((C9:AG9="H")*($C$4:$AG$4=1)) | AI9: =SUMPRODUCT((C9:AG9="K")*($C$4:$AG$4=1))
A10: =IF(Team!A9="","",Team!A9) | AH10: =SUMPRODUCT((C10:AG10="U")*($C$4:$AG$4=1))+0.5*SUMPRODUCT((C10:AG10="H")*($C$4:$AG$4=1)) | AI10: =SUMPRODUCT((C10:AG10="K")*($C$4:$AG$4=1))
A11: =IF(Team!A10="","",Team!A10) | AH11: =SUMPRODUCT((C11:AG11="U")*($C$4:$AG$4=1))+0.5*SUMPRODUCT((C11:AG11="H")*($C$4:$AG$4=1)) | AI11: =SUMPRODUCT((C11:AG11="K")*($C$4:$AG$4=1))
A12: =IF(Team!A11="","",Team!A11) | AH12: =SUMPRODUCT((C12:AG12="U")*($C$4:$AG$4=1))+0.5*SUMPRODUCT((C12:AG12="H")*($C$4:$AG$4=1)) | AI12: =SUMPRODUCT((C12:AG12="K")*($C$4:$AG$4=1))
A13: =IF(Team!A12="","",Team!A12) | AH13: =SUMPRODUCT((C13:AG13="U")*($C$4:$AG$4=1))+0.5*SUMPRODUCT((C13:AG13="H")*($C$4:$AG$4=1)) | AI13: =SUMPRODUCT((C13:AG13="K")*($C$4:$AG$4=1))
A14: =IF(Team!A13="","",Team!A13) | AH14: =SUMPRODUCT((C14:AG14="U")*($C$4:$AG$4=1))+0.5*SUMPRODUCT((C14:AG14="H")*($C$4:$AG$4=1)) | AI14: =SUMPRODUCT((C14:AG14="K")*($C$4:$AG$4=1))
A15: =IF(Team!A14="","",Team!A14) | AH15: =SUMPRODUCT((C15:AG15="U")*($C$4:$AG$4=1))+0.5*SUMPRODUCT((C15:AG15="H")*($C$4:$AG$4=1)) | AI15: =SUMPRODUCT((C15:AG15="K")*($C$4:$AG$4=1))
A16: =IF(Team!A15="","",Team!A15) | AH16: =SUMPRODUCT((C16:AG16="U")*($C$4:$AG$4=1))+0.5*SUMPRODUCT((C16:AG16="H")*($C$4:$AG$4=1)) | AI16: =SUMPRODUCT((C16:AG16="K")*($C$4:$AG$4=1))
... A24: =IF(Team!A23="","",Team!A23) | AH24: =SUMPRODUCT((C24:AG24="U")*($C$4:$AG$4=1))+0.5*SUMPRODUCT((C24:AG24="H")*($C$4:$AG$4=1)) | AI24: =SUMPRODUCT((C24:AG24="K")*($C$4:$AG$4=1))
A25: Abwesend | C25: =COUNTIF(C5:C24,"?*") | D25: =COUNTIF(D5:D24,"?*") | E25: =COUNTIF(E5:E24,"?*") | F25: =COUNTIF(F5:F24,"?*") | G25: =COUNTIF(G5:G24,"?*") | H25: =COUNTIF(H5:H24,"?*") | I25: =COUNTIF(I5:I24,"?*") | J25: =COUNTIF(J5:J24,"?*") | ... AG25: =COUNTIF(AG5:AG24,"?*")

Sheet Nov
A1: November 2027
A2: Tag | C2: =C3 | D2: =D3 | E2: =E3 | F2: =F3 | G2: =G3 | H2: =H3 | I2: =I3 | J2: =J3 | ... AF2: =AF3
A3: Datum | C3: 46692 | D3: 46693 | E3: 46694 | F3: 46695 | G3: 46696 | H3: 46697 | I3: 46698 | J3: 46699 | K3: 46700 | L3: 46701 | M3: 46702 | N3: 46703 | O3: 46704 | P3: 46705 | Q3: 46706 | R3: 46707 | S3: 46708 | T3: 46709 | U3: 46710 | V3: 46711 | W3: 46712 | X3: 46713 | Y3: 46714 | Z3: 46715 | AA3: 46716 | AB3: 46717 | AC3: 46718 | AD3: 46719 | AE3: 46720 | AF3: 46721 | AH3: Urlaub | AI3: Krank
A4: Arbeitstag (1 = ja) | C4: =IF(WEEKDAY(C3,2)>5,0,IF(COUNTIFS(Feiertage!$A$3:$A$19,C3,Feiertage!$S$3:$S$19,1)>0,0,1)) | D4: =IF(WEEKDAY(D3,2)>5,0,IF(COUNTIFS(Feiertage!$A$3:$A$19,D3,Feiertage!$S$3:$S$19,1)>0,0,1)) | E4: =IF(WEEKDAY(E3,2)>5,0,IF(COUNTIFS(Feiertage!$A$3:$A$19,E3,Feiertage!$S$3:$S$19,1)>0,0,1)) | F4: =IF(WEEKDAY(F3,2)>5,0,IF(COUNTIFS(Feiertage!$A$3:$A$19,F3,Feiertage!$S$3:$S$19,1)>0,0,1)) | G4: =IF(WEEKDAY(G3,2)>5,0,IF(COUNTIFS(Feiertage!$A$3:$A$19,G3,Feiertage!$S$3:$S$19,1)>0,0,1)) | H4: =IF(WEEKDAY(H3,2)>5,0,IF(COUNTIFS(Feiertage!$A$3:$A$19,H3,Feiertage!$S$3:$S$19,1)>0,0,1)) | I4: =IF(WEEKDAY(I3,2)>5,0,IF(COUNTIFS(Feiertage!$A$3:$A$19,I3,Feiertage!$S$3:$S$19,1)>0,0,1)) | J4: =IF(WEEKDAY(J3,2)>5,0,IF(COUNTIFS(Feiertage!$A$3:$A$19,J3,Feiertage!$S$3:$S$19,1)>0,0,1)) | ... AF4: =IF(WEEKDAY(AF3,2)>5,0,IF(COUNTIFS(Feiertage!$A$3:$A$19,AF3,Feiertage!$S$3:$S$19,1)>0,0,1))
A5: =IF(Team!A4="","",Team!A4) | AH5: =SUMPRODUCT((C5:AG5="U")*($C$4:$AG$4=1))+0.5*SUMPRODUCT((C5:AG5="H")*($C$4:$AG$4=1)) | AI5: =SUMPRODUCT((C5:AG5="K")*($C$4:$AG$4=1))
A6: =IF(Team!A5="","",Team!A5) | AH6: =SUMPRODUCT((C6:AG6="U")*($C$4:$AG$4=1))+0.5*SUMPRODUCT((C6:AG6="H")*($C$4:$AG$4=1)) | AI6: =SUMPRODUCT((C6:AG6="K")*($C$4:$AG$4=1))
A7: =IF(Team!A6="","",Team!A6) | AH7: =SUMPRODUCT((C7:AG7="U")*($C$4:$AG$4=1))+0.5*SUMPRODUCT((C7:AG7="H")*($C$4:$AG$4=1)) | AI7: =SUMPRODUCT((C7:AG7="K")*($C$4:$AG$4=1))
A8: =IF(Team!A7="","",Team!A7) | AH8: =SUMPRODUCT((C8:AG8="U")*($C$4:$AG$4=1))+0.5*SUMPRODUCT((C8:AG8="H")*($C$4:$AG$4=1)) | AI8: =SUMPRODUCT((C8:AG8="K")*($C$4:$AG$4=1))
A9: =IF(Team!A8="","",Team!A8) | AH9: =SUMPRODUCT((C9:AG9="U")*($C$4:$AG$4=1))+0.5*SUMPRODUCT((C9:AG9="H")*($C$4:$AG$4=1)) | AI9: =SUMPRODUCT((C9:AG9="K")*($C$4:$AG$4=1))
A10: =IF(Team!A9="","",Team!A9) | AH10: =SUMPRODUCT((C10:AG10="U")*($C$4:$AG$4=1))+0.5*SUMPRODUCT((C10:AG10="H")*($C$4:$AG$4=1)) | AI10: =SUMPRODUCT((C10:AG10="K")*($C$4:$AG$4=1))
A11: =IF(Team!A10="","",Team!A10) | AH11: =SUMPRODUCT((C11:AG11="U")*($C$4:$AG$4=1))+0.5*SUMPRODUCT((C11:AG11="H")*($C$4:$AG$4=1)) | AI11: =SUMPRODUCT((C11:AG11="K")*($C$4:$AG$4=1))
A12: =IF(Team!A11="","",Team!A11) | AH12: =SUMPRODUCT((C12:AG12="U")*($C$4:$AG$4=1))+0.5*SUMPRODUCT((C12:AG12="H")*($C$4:$AG$4=1)) | AI12: =SUMPRODUCT((C12:AG12="K")*($C$4:$AG$4=1))
A13: =IF(Team!A12="","",Team!A12) | AH13: =SUMPRODUCT((C13:AG13="U")*($C$4:$AG$4=1))+0.5*SUMPRODUCT((C13:AG13="H")*($C$4:$AG$4=1)) | AI13: =SUMPRODUCT((C13:AG13="K")*($C$4:$AG$4=1))
A14: =IF(Team!A13="","",Team!A13) | AH14: =SUMPRODUCT((C14:AG14="U")*($C$4:$AG$4=1))+0.5*SUMPRODUCT((C14:AG14="H")*($C$4:$AG$4=1)) | AI14: =SUMPRODUCT((C14:AG14="K")*($C$4:$AG$4=1))
A15: =IF(Team!A14="","",Team!A14) | AH15: =SUMPRODUCT((C15:AG15="U")*($C$4:$AG$4=1))+0.5*SUMPRODUCT((C15:AG15="H")*($C$4:$AG$4=1)) | AI15: =SUMPRODUCT((C15:AG15="K")*($C$4:$AG$4=1))
A16: =IF(Team!A15="","",Team!A15) | AH16: =SUMPRODUCT((C16:AG16="U")*($C$4:$AG$4=1))+0.5*SUMPRODUCT((C16:AG16="H")*($C$4:$AG$4=1)) | AI16: =SUMPRODUCT((C16:AG16="K")*($C$4:$AG$4=1))
... A24: =IF(Team!A23="","",Team!A23) | AH24: =SUMPRODUCT((C24:AG24="U")*($C$4:$AG$4=1))+0.5*SUMPRODUCT((C24:AG24="H")*($C$4:$AG$4=1)) | AI24: =SUMPRODUCT((C24:AG24="K")*($C$4:$AG$4=1))
A25: Abwesend | C25: =COUNTIF(C5:C24,"?*") | D25: =COUNTIF(D5:D24,"?*") | E25: =COUNTIF(E5:E24,"?*") | F25: =COUNTIF(F5:F24,"?*") | G25: =COUNTIF(G5:G24,"?*") | H25: =COUNTIF(H5:H24,"?*") | I25: =COUNTIF(I5:I24,"?*") | J25: =COUNTIF(J5:J24,"?*") | ... AF25: =COUNTIF(AF5:AF24,"?*")

Sheet Dez
A1: Dezember 2027
A2: Tag | C2: =C3 | D2: =D3 | E2: =E3 | F2: =F3 | G2: =G3 | H2: =H3 | I2: =I3 | J2: =J3 | ... AG2: =AG3
A3: Datum | C3: 46722 | D3: 46723 | E3: 46724 | F3: 46725 | G3: 46726 | H3: 46727 | I3: 46728 | J3: 46729 | K3: 46730 | L3: 46731 | M3: 46732 | N3: 46733 | O3: 46734 | P3: 46735 | Q3: 46736 | R3: 46737 | S3: 46738 | T3: 46739 | U3: 46740 | V3: 46741 | W3: 46742 | X3: 46743 | Y3: 46744 | Z3: 46745 | AA3: 46746 | AB3: 46747 | AC3: 46748 | AD3: 46749 | AE3: 46750 | AF3: 46751 | AG3: 46752 | AH3: Urlaub | AI3: Krank
A4: Arbeitstag (1 = ja) | C4: =IF(WEEKDAY(C3,2)>5,0,IF(COUNTIFS(Feiertage!$A$3:$A$19,C3,Feiertage!$S$3:$S$19,1)>0,0,1)) | D4: =IF(WEEKDAY(D3,2)>5,0,IF(COUNTIFS(Feiertage!$A$3:$A$19,D3,Feiertage!$S$3:$S$19,1)>0,0,1)) | E4: =IF(WEEKDAY(E3,2)>5,0,IF(COUNTIFS(Feiertage!$A$3:$A$19,E3,Feiertage!$S$3:$S$19,1)>0,0,1)) | F4: =IF(WEEKDAY(F3,2)>5,0,IF(COUNTIFS(Feiertage!$A$3:$A$19,F3,Feiertage!$S$3:$S$19,1)>0,0,1)) | G4: =IF(WEEKDAY(G3,2)>5,0,IF(COUNTIFS(Feiertage!$A$3:$A$19,G3,Feiertage!$S$3:$S$19,1)>0,0,1)) | H4: =IF(WEEKDAY(H3,2)>5,0,IF(COUNTIFS(Feiertage!$A$3:$A$19,H3,Feiertage!$S$3:$S$19,1)>0,0,1)) | I4: =IF(WEEKDAY(I3,2)>5,0,IF(COUNTIFS(Feiertage!$A$3:$A$19,I3,Feiertage!$S$3:$S$19,1)>0,0,1)) | J4: =IF(WEEKDAY(J3,2)>5,0,IF(COUNTIFS(Feiertage!$A$3:$A$19,J3,Feiertage!$S$3:$S$19,1)>0,0,1)) | ... AG4: =IF(WEEKDAY(AG3,2)>5,0,IF(COUNTIFS(Feiertage!$A$3:$A$19,AG3,Feiertage!$S$3:$S$19,1)>0,0,1))
A5: =IF(Team!A4="","",Team!A4) | AH5: =SUMPRODUCT((C5:AG5="U")*($C$4:$AG$4=1))+0.5*SUMPRODUCT((C5:AG5="H")*($C$4:$AG$4=1)) | AI5: =SUMPRODUCT((C5:AG5="K")*($C$4:$AG$4=1))
A6: =IF(Team!A5="","",Team!A5) | AH6: =SUMPRODUCT((C6:AG6="U")*($C$4:$AG$4=1))+0.5*SUMPRODUCT((C6:AG6="H")*($C$4:$AG$4=1)) | AI6: =SUMPRODUCT((C6:AG6="K")*($C$4:$AG$4=1))
A7: =IF(Team!A6="","",Team!A6) | AH7: =SUMPRODUCT((C7:AG7="U")*($C$4:$AG$4=1))+0.5*SUMPRODUCT((C7:AG7="H")*($C$4:$AG$4=1)) | AI7: =SUMPRODUCT((C7:AG7="K")*($C$4:$AG$4=1))
A8: =IF(Team!A7="","",Team!A7) | AH8: =SUMPRODUCT((C8:AG8="U")*($C$4:$AG$4=1))+0.5*SUMPRODUCT((C8:AG8="H")*($C$4:$AG$4=1)) | AI8: =SUMPRODUCT((C8:AG8="K")*($C$4:$AG$4=1))
A9: =IF(Team!A8="","",Team!A8) | AH9: =SUMPRODUCT((C9:AG9="U")*($C$4:$AG$4=1))+0.5*SUMPRODUCT((C9:AG9="H")*($C$4:$AG$4=1)) | AI9: =SUMPRODUCT((C9:AG9="K")*($C$4:$AG$4=1))
A10: =IF(Team!A9="","",Team!A9) | AH10: =SUMPRODUCT((C10:AG10="U")*($C$4:$AG$4=1))+0.5*SUMPRODUCT((C10:AG10="H")*($C$4:$AG$4=1)) | AI10: =SUMPRODUCT((C10:AG10="K")*($C$4:$AG$4=1))
A11: =IF(Team!A10="","",Team!A10) | AH11: =SUMPRODUCT((C11:AG11="U")*($C$4:$AG$4=1))+0.5*SUMPRODUCT((C11:AG11="H")*($C$4:$AG$4=1)) | AI11: =SUMPRODUCT((C11:AG11="K")*($C$4:$AG$4=1))
A12: =IF(Team!A11="","",Team!A11) | AH12: =SUMPRODUCT((C12:AG12="U")*($C$4:$AG$4=1))+0.5*SUMPRODUCT((C12:AG12="H")*($C$4:$AG$4=1)) | AI12: =SUMPRODUCT((C12:AG12="K")*($C$4:$AG$4=1))
A13: =IF(Team!A12="","",Team!A12) | AH13: =SUMPRODUCT((C13:AG13="U")*($C$4:$AG$4=1))+0.5*SUMPRODUCT((C13:AG13="H")*($C$4:$AG$4=1)) | AI13: =SUMPRODUCT((C13:AG13="K")*($C$4:$AG$4=1))
A14: =IF(Team!A13="","",Team!A13) | AH14: =SUMPRODUCT((C14:AG14="U")*($C$4:$AG$4=1))+0.5*SUMPRODUCT((C14:AG14="H")*($C$4:$AG$4=1)) | AI14: =SUMPRODUCT((C14:AG14="K")*($C$4:$AG$4=1))
A15: =IF(Team!A14="","",Team!A14) | AH15: =SUMPRODUCT((C15:AG15="U")*($C$4:$AG$4=1))+0.5*SUMPRODUCT((C15:AG15="H")*($C$4:$AG$4=1)) | AI15: =SUMPRODUCT((C15:AG15="K")*($C$4:$AG$4=1))
A16: =IF(Team!A15="","",Team!A15) | AH16: =SUMPRODUCT((C16:AG16="U")*($C$4:$AG$4=1))+0.5*SUMPRODUCT((C16:AG16="H")*($C$4:$AG$4=1)) | AI16: =SUMPRODUCT((C16:AG16="K")*($C$4:$AG$4=1))
... A24: =IF(Team!A23="","",Team!A23) | AH24: =SUMPRODUCT((C24:AG24="U")*($C$4:$AG$4=1))+0.5*SUMPRODUCT((C24:AG24="H")*($C$4:$AG$4=1)) | AI24: =SUMPRODUCT((C24:AG24="K")*($C$4:$AG$4=1))
A25: Abwesend | C25: =COUNTIF(C5:C24,"?*") | D25: =COUNTIF(D5:D24,"?*") | E25: =COUNTIF(E5:E24,"?*") | F25: =COUNTIF(F5:F24,"?*") | G25: =COUNTIF(G5:G24,"?*") | H25: =COUNTIF(H5:H24,"?*") | I25: =COUNTIF(I5:I24,"?*") | J25: =COUNTIF(J5:J24,"?*") | ... AG25: =COUNTIF(AG5:AG24,"?*")

Sheet Feiertage
A1: Datum | B1: Feiertag | C1: BW | D1: BY | E1: BE | F1: BB | G1: HB | H1: HH | I1: HE | J1: MV | K1: NI | L1: NW | M1: RP | N1: SL | O1: SN | P1: ST | Q1: SH | R1: TH | S1: gilt
B2: Bundesland → | C2: Baden-Württemberg | D2: Bayern | E2: Berlin | F2: Brandenburg | G2: Bremen | H2: Hamburg | I2: Hessen | J2: Mecklenburg-Vorpommern | K2: Niedersachsen | L2: Nordrhein-Westfalen | M2: Rheinland-Pfalz | N2: Saarland | O2: Sachsen | P2: Sachsen-Anhalt | Q2: Schleswig-Holstein | R2: Thüringen | S2: im gewählten Land
A3: 46388 | B3: Neujahr | C3: 1 | D3: 1 | E3: 1 | F3: 1 | G3: 1 | H3: 1 | I3: 1 | J3: 1 | K3: 1 | L3: 1 | M3: 1 | N3: 1 | O3: 1 | P3: 1 | Q3: 1 | R3: 1 | S3: =IF(INDEX(C3:R3,Einstellungen!$B$8)=1,1,0)
A4: 46393 | B4: Heilige Drei Könige | C4: 1 | D4: 1 | P4: 1 | S4: =IF(INDEX(C4:R4,Einstellungen!$B$8)=1,1,0)
A5: 46454 | B5: Internationaler Frauentag | E5: 1 | J5: 1 | S5: =IF(INDEX(C5:R5,Einstellungen!$B$8)=1,1,0)
A6: 46472 | B6: Karfreitag | C6: 1 | D6: 1 | E6: 1 | F6: 1 | G6: 1 | H6: 1 | I6: 1 | J6: 1 | K6: 1 | L6: 1 | M6: 1 | N6: 1 | O6: 1 | P6: 1 | Q6: 1 | R6: 1 | S6: =IF(INDEX(C6:R6,Einstellungen!$B$8)=1,1,0)
A7: 46475 | B7: Ostermontag | C7: 1 | D7: 1 | E7: 1 | F7: 1 | G7: 1 | H7: 1 | I7: 1 | J7: 1 | K7: 1 | L7: 1 | M7: 1 | N7: 1 | O7: 1 | P7: 1 | Q7: 1 | R7: 1 | S7: =IF(INDEX(C7:R7,Einstellungen!$B$8)=1,1,0)
A8: 46508 | B8: Tag der Arbeit | C8: 1 | D8: 1 | E8: 1 | F8: 1 | G8: 1 | H8: 1 | I8: 1 | J8: 1 | K8: 1 | L8: 1 | M8: 1 | N8: 1 | O8: 1 | P8: 1 | Q8: 1 | R8: 1 | S8: =IF(INDEX(C8:R8,Einstellungen!$B$8)=1,1,0)
A9: 46513 | B9: Christi Himmelfahrt | C9: 1 | D9: 1 | E9: 1 | F9: 1 | G9: 1 | H9: 1 | I9: 1 | J9: 1 | K9: 1 | L9: 1 | M9: 1 | N9: 1 | O9: 1 | P9: 1 | Q9: 1 | R9: 1 | S9: =IF(INDEX(C9:R9,Einstellungen!$B$8)=1,1,0)
A10: 46524 | B10: Pfingstmontag | C10: 1 | D10: 1 | E10: 1 | F10: 1 | G10: 1 | H10: 1 | I10: 1 | J10: 1 | K10: 1 | L10: 1 | M10: 1 | N10: 1 | O10: 1 | P10: 1 | Q10: 1 | R10: 1 | S10: =IF(INDEX(C10:R10,Einstellungen!$B$8)=1,1,0)
A11: 46534 | B11: Fronleichnam | C11: 1 | D11: 1 | I11: 1 | L11: 1 | M11: 1 | N11: 1 | S11: =IF(INDEX(C11:R11,Einstellungen!$B$8)=1,1,0)
A12: 46614 | B12: Mariä Himmelfahrt | D12: 1 | N12: 1 | S12: =IF(INDEX(C12:R12,Einstellungen!$B$8)=1,1,0)
A13: 46650 | B13: Weltkindertag | R13: 1 | S13: =IF(INDEX(C13:R13,Einstellungen!$B$8)=1,1,0)
A14: 46663 | B14: Tag der Deutschen Einheit | C14: 1 | D14: 1 | E14: 1 | F14: 1 | G14: 1 | H14: 1 | I14: 1 | J14: 1 | K14: 1 | L14: 1 | M14: 1 | N14: 1 | O14: 1 | P14: 1 | Q14: 1 | R14: 1 | S14: =IF(INDEX(C14:R14,Einstellungen!$B$8)=1,1,0)
A15: 46691 | B15: Reformationstag | F15: 1 | G15: 1 | H15: 1 | J15: 1 | K15: 1 | O15: 1 | P15: 1 | Q15: 1 | R15: 1 | S15: =IF(INDEX(C15:R15,Einstellungen!$B$8)=1,1,0)
A16: 46692 | B16: Allerheiligen | C16: 1 | D16: 1 | L16: 1 | M16: 1 | N16: 1 | S16: =IF(INDEX(C16:R16,Einstellungen!$B$8)=1,1,0)
A17: 46708 | B17: Buß- und Bettag | O17: 1 | S17: =IF(INDEX(C17:R17,Einstellungen!$B$8)=1,1,0)
